BEGIN:VCALENDAR
VERSION:2.0
PRODID:-//Ashtangayoga Malmö//NONSGML kigkonsult.se iCalcreator 2.30.10//
CALSCALE:GREGORIAN
METHOD:PUBLISH
UID:b5fcebf1-32b5-4d74-842a-ba47e227d1c6
X-WR-CALNAME:iCagenda
X-WR-CALDESC:Event Management Extension for Joomla!
X-WR-RELCALID:3E26604A-50F4-4449-8B3E-E4F4932D05B5
X-WR-TIMEZONE:Europe/Stockholm
BEGIN:VTIMEZONE
TZID:Europe/Stockholm
BEGIN:STANDARD
TZNAME:CET
DTSTART:20201025T030000
TZOFFSETFROM:+0200
TZOFFSETTO:+0100
RDATE:20211031T030000
RDATE:20221030T030000
END:STANDARD
BEGIN:DAYLIGHT
TZNAME:CEST
DTSTART:20210328T020000
TZOFFSETFROM:+0100
TZOFFSETTO:+0200
RDATE:20220327T020000
END:DAYLIGHT
END:VTIMEZONE
BEGIN:VEVENT
UID:3ea38df5-e764-4985-93f7-47ad0972dda0
DTSTAMP:20260419T143155Z
CATEGORIES:Gästlärare
CLASS:PUBLIC
DESCRIPTION;ALTREP="CID:<FFFF__=0ABBE548DFE235B58f9e8a93d@coffeebean.com>":
 Äntligen kan vi välkomna erfarne och välrenommerade Ashtanga Yogaläraren o
 ch utövaren Tim Feldmann till vår shala i Malmö. På grund av covid19 och a
 ndra omständigheter var vi tvungna att skjuta upp hans besök 2020 men vi ä
 r väldigt glada att nu kunna genomföra workshopen helgen 20-22 augusti 202
 1 istället. Tim kommer inte bara dela med sig av sin positiva energi och s
 in humor utan framförallt av sin erfarenhet vad gäller Ashtangayoga som me
 tod och sina gedigna kunskaper i anatomi och rörelsemekanik från sin tid s
 om professionell dansare.\nMissa inte denna inspirerande helg med Tim! Då 
 workshoppen ges på engelska ber vi dig besöka den engelska versionen av vå
 r hemsida för att läsa mer om Tim och se det detaljerade programmet. Byt s
 pråk i menyraden högst uppe till höger.\nVi följer Folkhälsomyndighetens C
 ovid-19 restriktioner och anpassar eventet efter dessa. Tiderna för morgon
 -mysore kan därför behöva ändras något för att säkerställa att alla regler
  och säkerhetsföreskrifter kan efterföljas.\nDatum: Fredag 20 augusti till
  söndag 22 augusti 2021\nPris:\nHela workshoppen: 2100SEK\nEnskild dag: 90
 0SEK\nEnskild klass: 500SEK\nAnmälan sker per email (deltagare som anmäler
  sig till hela workshoppen prioriteras)\n*Återbetalning kan ej ske och anm
 älan är bindande. Du kan ge din plats till någon annan och då till den som
  står först på eventuell väntelista.
DTSTART:20210820T150000Z
DTEND:20210822T133000Z
GEO:00;0
LOCATION:Ashtanga Yoga Malmö
ORGANIZER;CN=:info@ashtangayogamalmo.se
SEQUENCE:1
SUMMARY:ASHTANGA YOGA HELG med TIM FELDMANN
TRANSP:OPAQUE
URL:https://www.ashtangayogamalmo.se/kurser-se/tidigare-evenemang/9-ashtang
 a-yoga-helg-med-tim-feldmann
END:VEVENT
END:VCALENDAR
