BEGIN:VCALENDAR
VERSION:2.0
PRODID:-//Ashtangayoga Malmö//NONSGML kigkonsult.se iCalcreator 2.30.10//
CALSCALE:GREGORIAN
METHOD:PUBLISH
UID:9cc01104-38ff-468c-a24a-90afe9b181d8
X-WR-CALNAME:iCagenda
X-WR-CALDESC:Event Management Extension for Joomla!
X-WR-RELCALID:3E26604A-50F4-4449-8B3E-E4F4932D05B5
X-WR-TIMEZONE:Europe/Stockholm
BEGIN:VTIMEZONE
TZID:Europe/Stockholm
BEGIN:STANDARD
TZNAME:CET
DTSTART:20211031T030000
TZOFFSETFROM:+0200
TZOFFSETTO:+0100
RDATE:20221030T030000
RDATE:20231029T030000
END:STANDARD
BEGIN:DAYLIGHT
TZNAME:CEST
DTSTART:20220327T020000
TZOFFSETFROM:+0100
TZOFFSETTO:+0200
RDATE:20230326T020000
END:DAYLIGHT
END:VTIMEZONE
BEGIN:VEVENT
UID:6d0e38b9-76c6-44f6-be7c-93404c19d374
DTSTAMP:20260419T143341Z
CATEGORIES:Gästlärare
CLASS:PUBLIC
DESCRIPTION;ALTREP="CID:<FFFF__=0ABBE548DFE235B58f9e8a93d@coffeebean.com>":
 I september 2022 får vi äntligen hälsa Måns Broo välkommen till Ashtanga Y
 oga Malmö igen. Måns besökte senast vår shala i mars 2020 och då han förel
 äste om Patanjali Yoga Sutra. Helgen den 24-25 september 2022 håller han e
 n introduktion till texten Bhagavad-gita.\nBhagavad-gita är idag känd som 
 en av hinduismens viktigaste heliga skrifter\, men boken är också en av de
  centrala\, tidiga texterna om yoga. I denna kurs kommer FD Måns Broo\, yo
 gautövare och religionsvetare från Åbo Akademi\, att genom berättelser\, d
 iskussioner och små övningar introducera Bhagavad-gitas handling\, innehål
 l och känsla för yogier. Vad säger denna bok om yoga\, och vad kan vi i da
 gens samhälle lära oss av den? \nKursen kräver inga förkunskaper. Den löpe
 r över två hela dagar och äger rum live i vår shala på Värnhemstorget samt
  streamas (och spelas in) via Zoom för den som inte kan delta på plats. Bo
 kning är bindande och ej återbetalningsbar.\nPROGRAM (lör &amp\; sön) 24-2
 5 september 2022\nTid:  9-12 (lunch 12-13.30) samt 13.30-16.30\nPris: 1650
 kr hela kursen\, en dag 900kr\nBokning: mail till info@ashtangayogamalmo.s
 e \nVarmt välkommen!.\n \nOM MÅNS\nMåns Broo är lektor i religionsvetenska
 p vid Åbo Akademi\, Finland. Han är också chefredaktör för Ananda\, Finlan
 ds ledande yogatidskrift samt publicerade i januari 2019 en svensk översät
 tning av Patanjali Yoga-sutra. Till Måns tidigare böcker hör bland annat D
 e tidiga upanishaderna (Nya Doxa 2005\, med Martin Gansten) och Hinduismen
 s heliga skrifter (Atlantis 2010).
DTSTART:20220924T070000Z
DTEND:20220925T143000Z
GEO:00;0
LOCATION:Ashtanga Yoga Malmö
ORGANIZER;CN=:info@ashtangayogamalmo.se
SEQUENCE:1
SUMMARY:En introduktion till Bhagavad-gita med Måns Broo
TRANSP:OPAQUE
URL:https://www.ashtangayogamalmo.se/kurser-se/tidigare-evenemang/41-en-int
 roduktion-till-bhagavad-gita-med-mans-broo
END:VEVENT
END:VCALENDAR
