BEGIN:VCALENDAR
VERSION:2.0
PRODID:-//Ashtangayoga Malmö//NONSGML kigkonsult.se iCalcreator 2.30.10//
CALSCALE:GREGORIAN
METHOD:PUBLISH
UID:854d5dd9-1e6a-47c1-83f4-a241640b7403
X-WR-CALNAME:iCagenda
X-WR-CALDESC:Event Management Extension for Joomla!
X-WR-RELCALID:3E26604A-50F4-4449-8B3E-E4F4932D05B5
X-WR-TIMEZONE:Europe/Stockholm
BEGIN:VTIMEZONE
TZID:Europe/Stockholm
BEGIN:STANDARD
TZNAME:CET
DTSTART:20251026T030000
TZOFFSETFROM:+0200
TZOFFSETTO:+0100
RDATE:20261025T030000
END:STANDARD
BEGIN:DAYLIGHT
TZNAME:CEST
DTSTART:20260329T020000
TZOFFSETFROM:+0100
TZOFFSETTO:+0200
RDATE:20270328T020000
END:DAYLIGHT
END:VTIMEZONE
BEGIN:VEVENT
UID:f1762aca-f429-4df0-ae69-dace2baf85e2
DTSTAMP:20260419T123334Z
CATEGORIES:Öppet hus
CLASS:PUBLIC
DESCRIPTION;ALTREP="CID:<FFFF__=0ABBE548DFE235B58f9e8a93d@coffeebean.com>":
 Välkommen på bokrelease av ”It’s an Inside Job – Förändring från insidan o
 ch ut”\, en bok om återhämtning\, gemenskap och hopp – med röster från ins
 idan och praktiska metoder för vardagen. Boken är skapad av Josefin Wikstr
 öm i samarbete med männen på anstalten Kumla och James Fox.\n”It’s an Insi
 de Job” tar läsaren med in i anstalter i Sverige\, USA och Mexiko – miljöe
 r som sällan får synas – och visar hur yoga och kroppsbaserade metoder kan
  bli konkreta verktyg för att hantera stress\, skapa stabilitet och stödja
  återhämtning\, både under strafftiden och efter frigivning.\nBoken är ska
 pad tillsammans med män i anstaltsmiljö\, men metoderna kan användas av al
 la – och den är också riktad till ungdomar i förebyggande syfte. Boken för
 enar praktik och berättelser med perspektiv från forskning.\nLördagen den 
 18 april gästar Josefin Wikström Malmö och berättar om boken.\nVi får ocks
 å en liten introduktion till metoderna från boken och möjlighet att köpa d
 en på plats*.\nDag och tid: lördag 18 april kl 15-17\nPlats: Ashtanga Yoga
  Malmö\, Grangatan 2\, Värnhemstorget\nDeltagande: evenemanget är kostnads
 fritt. Kontakta oss i förväg för att få portkoden info@ashtangayogamalmo.s
 e \nMer information:\nOm boken\n·        Utgivningsdatum: 1 mars 2026\n·  
       Förlag: Vulkan bokförlag\n·        Försäljning: www.prisonyogascandi
 navia.org\, Bokus\, Adlibris\n·        Titel: It’s an Inside Job\n·       
  Undertitel: Förändring från insidan och ut\n·        Av: Josefin Wikström
 \, Författare och programansvarig Prison Yoga Project Europajosefin@prison
 yoga.org\n·        I samarbete med: männen på anstalten Kumla och James Fo
 x\n* Samtliga intäkter från boken – går oavkortat till den ideella organis
 ationen Prison Yoga Project Skandinavien som verkar för att erbjuda yogaba
 serat stöd i samband med frigivning\, bland annat genom bokprogram och dig
 itala insatser
DTSTART:20260418T130000Z
DTEND:20260418T150000Z
GEO:00;0
LOCATION:Ashtanga Yoga Malmö
ORGANIZER;CN=:info@ashtangayogamalmo.se
SEQUENCE:1
SUMMARY:INSTÄLLT pga sjukdom - Bokrelease av ”It’s an Inside Job
TRANSP:OPAQUE
URL:https://www.ashtangayogamalmo.se/kurser-se/tidigare-evenemang/303-bokre
 lease-av-its-an-inside-job-foeraendring-fran-insidan-och-ut-yoga-som-stoed
 -i-livet
END:VEVENT
END:VCALENDAR
