BEGIN:VCALENDAR
VERSION:2.0
PRODID:-//Ashtangayoga Malmö//NONSGML kigkonsult.se iCalcreator 2.30.10//
CALSCALE:GREGORIAN
METHOD:PUBLISH
UID:ccb840e0-0eb2-479a-8ad9-30faecfc0ec6
X-WR-CALNAME:iCagenda
X-WR-CALDESC:Event Management Extension for Joomla!
X-WR-RELCALID:3E26604A-50F4-4449-8B3E-E4F4932D05B5
X-WR-TIMEZONE:Europe/Stockholm
BEGIN:VTIMEZONE
TZID:Europe/Stockholm
BEGIN:STANDARD
TZNAME:CET
DTSTART:20211031T030000
TZOFFSETFROM:+0200
TZOFFSETTO:+0100
RDATE:20221030T030000
END:STANDARD
BEGIN:DAYLIGHT
TZNAME:CEST
DTSTART:20210328T020000
TZOFFSETFROM:+0100
TZOFFSETTO:+0200
RDATE:20220327T020000
RDATE:20230326T020000
END:DAYLIGHT
END:VTIMEZONE
BEGIN:VEVENT
UID:6264eeee-a019-4e82-9c94-ec5693b507f9
DTSTAMP:20260419T143122Z
CATEGORIES:Gästlärare
CLASS:PUBLIC
DESCRIPTION;ALTREP="CID:<FFFF__=0ABBE548DFE235B58f9e8a93d@coffeebean.com>":
 Vi är mycket glada att få välkomna Matt Ryan till Ashtanga Yoga Malmö veck
 an mellan jul och nyår 27-30 december 2021. Två gånger under det senaste å
 ret har vi fått skjuta upp Matts besök på grund av Covid-19-pandemin\, men
  äntligen kan han komma till vår shala för att dela med sig av sin långa e
 rfarenhet av Ashtanga-yoga och Zen-buddhism. Matt kommer att undervisa und
 er fyra dagar och då både Mysoreklasser på morgonen samt särskilda worksho
 ps i Zen-meditation och Ashtanga-yoga. Undervisningen på Mysoreklasser och
  workshops sker på engelska. För att se hela programmet och för att läsa m
 er om Matt ber vi dig växla till den engelska versionen av vår hemsida (by
 t språk i menyn uppe till höger). Nedan finner du kortfattad information o
 m priser och bokning men först ett meddelande från Matt (på engelska):\n\n
 'Hej! I do hope you are all good and well. I am super excited to be coming
  over to Ashtanga Yoga Malmö to teach a four day workshop in December. I j
 ust wanted to say a few words about what to expect from me as a teacher an
 d the sessions I will lead. I have been teaching and practising ashtanga y
 oga for over 22 years now and one of the highest compliments I have had fr
 om a student was to be called the hardest working man in the Mysore room. 
 I pride myself on being available open and honest to every student that co
 mes through the door giving each person 110%. I welcome all levels at the 
 workshop especially complete beginners as the Mysore room is the perfect s
 tarting point for a newcomer to Ashtanga. I am also super excited to bring
  Zen Meditation to this workshop. The mind Body combination of Zazen (Zen 
 meditation ) and ashtanga yoga is absolutely perfect. An old Yogi once tol
 d me yoga teachers get the students they deserve and looking at all my stu
 dent testimonials I feel like I’m doing something right. See you on 27 Dec
 ember. '\n\nBOKNINGSINFO\nMysoreklass: Matt undervisar den reguljära morgo
 n-Mysoreklassen hos Ashtanga Yoga Malmö 27-30/12. Klasserna är drop-in och
  existerande medlemmar kan delta med sina (giltiga) träningskort. Utomståe
 nde besökare betalar drop-in pris och måste anmäla sig senast 48 timmar i 
 förväg för att delta.\nZen Meditation (introduktionskurs) och Ashtanga yog
 a workshops: Bokningar som inkluderar hela Zen Meditationskursen (4 dagar)
  och alla kvällsworkshops (3 dagar) får rabatt.\n \nPris:\n- Mysoreklass: 
 nuvarande medlemmar får använda sina (giltiga) träningskort\, övriga betal
 ar drop-in 175 SEK FULLBOKAD\n- Zen-meditation: 1100 SEK (helkurs)\, Intro
  (27/12) 350SEK + enstaka dagar 300SEK per klass FULLBOKAD\n- Kvällsworksh
 op: 1200 SEK (alla workshops)\, enstaka workshop 450 SEK - ENSTAKA PLATSER
 \n- Full Zen-meditationsurs (4dgr) och alla kvällworkshops (3dgr): 2100 SE
 K\n \nBokningar* och Mysoreklassreservation: maila info@ashtangayogamalmo.
 se\n*Bokningsregler: alla bokningar är bindande och återbetalas inte. Du k
 an överlämna din plats till en annan deltagare på väntelistan. Vi förbehål
 ler oss rätten att göra ändringar i programmet på grund av Covid-19 och an
 dra oförutsedda händelser.
DTSTART:20211227T063000Z
DTEND:20211230T103100Z
GEO:00;0
LOCATION:Ashtanga Yoga Malmö
ORGANIZER;CN=:info@ashtangayogamalmo.se
SEQUENCE:1
SUMMARY:MELLANDAGSYOGA med MATT RYAN (4 dagar)
TRANSP:OPAQUE
URL:https://www.ashtangayogamalmo.se/kurser-se/tidigare-evenemang/30-mellan
 dagsyoga-med-matt-ryan
END:VEVENT
END:VCALENDAR
