BEGIN:VCALENDAR
VERSION:2.0
PRODID:-//Ashtangayoga Malmö//NONSGML kigkonsult.se iCalcreator 2.30.10//
CALSCALE:GREGORIAN
METHOD:PUBLISH
UID:0075a751-f338-403f-9f6c-f38a51c1e711
X-WR-CALNAME:iCagenda
X-WR-CALDESC:Event Management Extension for Joomla!
X-WR-RELCALID:3E26604A-50F4-4449-8B3E-E4F4932D05B5
X-WR-TIMEZONE:Europe/Stockholm
BEGIN:VTIMEZONE
TZID:Europe/Stockholm
BEGIN:STANDARD
TZNAME:CET
DTSTART:20251026T030000
TZOFFSETFROM:+0200
TZOFFSETTO:+0100
RDATE:20261025T030000
END:STANDARD
BEGIN:DAYLIGHT
TZNAME:CEST
DTSTART:20250330T020000
TZOFFSETFROM:+0100
TZOFFSETTO:+0200
RDATE:20260329T020000
RDATE:20270328T020000
END:DAYLIGHT
END:VTIMEZONE
BEGIN:VEVENT
UID:84036ecd-691d-45af-87fd-c8675638ceb1
DTSTAMP:20260419T143115Z
CATEGORIES:Nybörjare
CLASS:PUBLIC
DESCRIPTION;ALTREP="CID:<FFFF__=0ABBE548DFE235B58f9e8a93d@coffeebean.com>":
 Kursen ger dig en introduktion till Ashtanga yogans grunder och riktar sig
  både till dig som aldrig provat yoga tidigare och till den som utövar and
 ra typer av yoga men vill lära sig Ashtanga ordentligt från start. Kursen 
 är öppen för alla och kräver inga förkunskaper\, dock bör du inte starta m
 ed ashtanga yoga under en pågående graviditet.  \nKursen löper över 8 till
 fällen med start måndag den 26/1–2026 kl. 17.15. Alla deltagare rekommende
 ras också att komma till mysoreklasserna parallellt med kursen. OBS! Ett g
 ratis mysore-tillfälle per vecka ingår i kurspriset. Läs mer om mysoreklas
 serna under klassbeskrivning\nVi börjar med en kort introduktion till yoga
 ns filosofi följt av en gradvis inlärning av Solhälsningar\, stående asana
 s (positioner) från Ashtanga yogans första serie. Fokus ligger framför all
 t på att lära sig att synkronisera andning och rörelse (så kallad vinyasa 
 krama)\, få kunskap om Bandhas (energilås i kroppen) och Drishti (fokus fö
 r ögonen). Du lär dig också hur du tränar och rör dig på ett säkert sätt f
 ör att undvika skador och istället bygga upp kroppen att bli både stark oc
 h smidig på sikt. \nDag och tid: måndagar kl. 17:15-18:45\, 8 veckor med s
 tart 26/1–2026 (paus v. 8 sportlovet)\nPris: 1250kr (student och seniorrab
 att 20% erhålles)\nLärare: Katie Anderson Ahlstedt\nAnmälan: Kursen ges i 
 samarbete med Medborgarskolan. Föranmälan krävs och görs via Medborgarskol
 an (klicka här).\nVi har en åldersgräns på 16 år och deltagare under 18 år
  behöver målsmans godkännande.\nFrågor: Undrar du något är du välkommen at
 t höra av dig till oss per email
DTSTART:20260126T161500Z
DTEND:20260126T174500Z
GEO:00;0
LOCATION:Ashtanga Yoga Malmö
ORGANIZER;CN=:info@ashtangayogamalmo.se
SEQUENCE:1
SUMMARY:Ashtangayoga grundkurs
TRANSP:OPAQUE
URL:https://www.ashtangayogamalmo.se/kurser-se/tidigare-evenemang/288-ashta
 ngayoga-grundkurs
END:VEVENT
END:VCALENDAR
