BEGIN:VCALENDAR
VERSION:2.0
PRODID:-//Ashtangayoga Malmö//NONSGML kigkonsult.se iCalcreator 2.30.10//
CALSCALE:GREGORIAN
METHOD:PUBLISH
UID:d95ea640-fc29-4f5c-90a5-e7338a22be94
X-WR-CALNAME:iCagenda
X-WR-CALDESC:Event Management Extension for Joomla!
X-WR-RELCALID:3E26604A-50F4-4449-8B3E-E4F4932D05B5
X-WR-TIMEZONE:Europe/Stockholm
BEGIN:VTIMEZONE
TZID:Europe/Stockholm
BEGIN:STANDARD
TZNAME:CET
DTSTART:20251026T030000
TZOFFSETFROM:+0200
TZOFFSETTO:+0100
RDATE:20261025T030000
END:STANDARD
BEGIN:DAYLIGHT
TZNAME:CEST
DTSTART:20250330T020000
TZOFFSETFROM:+0100
TZOFFSETTO:+0200
RDATE:20260329T020000
RDATE:20270328T020000
END:DAYLIGHT
END:VTIMEZONE
BEGIN:VEVENT
UID:d852167a-20e4-4512-aa3d-8094486e0e58
DTSTAMP:20260419T142732Z
CATEGORIES:Social sammankomst
CLASS:PUBLIC
DESCRIPTION;ALTREP="CID:<FFFF__=0ABBE548DFE235B58f9e8a93d@coffeebean.com>":
 Efter den ledda klassen söndagen den 7:e december bjuder Ashtanga Yoga Mal
 mö in till fest och vår årliga adventsbrunch (knytkalas). Tillsammans avsl
 utar vi året (även om det är några veckor kvar på terminen)\, umgås\, äter
  och dricker gott. Det blir ett tillfälle för oss lärare att tacka för all
 a deltagares engagemang och för oss att lära känna varandra bättre utanför
  yogamattan. Kan man inte komma på klassen före är man såklart välkommen a
 tt ansluta enbart till brunchen. \nDetta event är ett mycket uppskattat ti
 llfälle som vi ser fram emot varje år! Familjemedlemmar\, partners\, vänne
 r\, barn är alla också välkomna att ansluta. Ju fler vi blir desto härliga
 re. \nVi ber alla att att ta med ett vegetariskt/veganskt bidrag till buff
 én - meddela oss vad du tar med när du skickar in din anmälan. Te\, kaffe\
 , frukt samt plantbaserad dryck kommer att finnas på plats så detta behöve
 r ni inte ta med. \nDatum: 7/12-2025\nTid: brunch kl. 11-14.00\nAnmälan ti
 ll brunchen: maila info@ashtangayogamalmo.se\nVÄLKOMNA!
DTSTART:20251207T100000Z
DTEND:20251207T130000Z
GEO:00;0
LOCATION:Ashtanga Yoga Malmö
ORGANIZER;CN=:info@ashtangayogamalmo.se
SEQUENCE:1
SUMMARY:Adventsbrunch
TRANSP:OPAQUE
URL:https://www.ashtangayogamalmo.se/kurser-se/tidigare-evenemang/283-adven
 tsbrunch
END:VEVENT
END:VCALENDAR
