BEGIN:VCALENDAR
VERSION:2.0
PRODID:-//Ashtangayoga Malmö//NONSGML kigkonsult.se iCalcreator 2.30.10//
CALSCALE:GREGORIAN
METHOD:PUBLISH
UID:2cb94e65-d334-4d03-8ca8-71de2f72535e
X-WR-CALNAME:iCagenda
X-WR-CALDESC:Event Management Extension for Joomla!
X-WR-RELCALID:3E26604A-50F4-4449-8B3E-E4F4932D05B5
X-WR-TIMEZONE:Europe/Stockholm
BEGIN:VTIMEZONE
TZID:Europe/Stockholm
BEGIN:STANDARD
TZNAME:CET
DTSTART:20201025T030000
TZOFFSETFROM:+0200
TZOFFSETTO:+0100
RDATE:20211031T030000
RDATE:20221030T030000
END:STANDARD
BEGIN:DAYLIGHT
TZNAME:CEST
DTSTART:20210328T020000
TZOFFSETFROM:+0100
TZOFFSETTO:+0200
RDATE:20220327T020000
RDATE:20230326T020000
END:DAYLIGHT
END:VTIMEZONE
BEGIN:VEVENT
UID:d0713320-765a-4f7d-ac4d-aeb2ac4aa13c
DTSTAMP:20260419T143401Z
CATEGORIES:Mini-retreat (se)
CLASS:PUBLIC
DESCRIPTION;ALTREP="CID:<FFFF__=0ABBE548DFE235B58f9e8a93d@coffeebean.com>":
 Välkommen på yogahelg vid Snapparps gård  på vackra Österlen. Ta chansen t
 ill en extra energiboost inför höst och vinter i en lugn\, grön och skön m
 iljö. Helgen (fre kväll till söndag em) innefattar Ashtanga Yoga Mysore st
 yle samt guidad klass på morgonen\, temaklasser plus föreläsning om Ayurve
 da eftermiddag/kvällstid. I priset för helgen ingår två övernattningar\, a
 ll undervisning\, vegetarisk brunch och middag/kvällsmat samt te/kaffe och
  snacks mellan måltiderna. I övrigt erbjuds möjlighet till skogsvandring o
 ch bastubad mellan klasserna. Se detaljerat program nedan.\nVi bor enkelt 
 i delade rum och hjälps åt med matlagning samt hushållsyssslor under helge
 n. Det finns 10 sängplatser men möjlighet finns för fler att delta om man 
 själv ordnar boende på annan ort. Antal deltagare är dock begränsat för at
 t retreatet ska bli så personanpassat som möjligt.\nSnapparps gård utanför
  St Olof\, på Österlen ägs av Sussie och Lars Nicklasson. Huset med omgivn
 ing bebos även av några katter och höns. Det är nära till både Gyllebosjön
  och Knäbäckshusens vita stränder. Runt gården finns också får och kohagar
  samt vacker bokskog. Här kan du se bilder från gården: www.airbnb.se/room
 s/37421709/photos\n Datum: 1-3 oktober 2021\nPris: 2800kr (med boende) ell
 er 1800kr (utan boende\, enbart yoga och mat)\nVi premierar deltagare som 
 bokar hela helgen. Vid bokning meddela oss gärna om evt allergier samt om 
 önskemål för delning av rum. Återbetalning kan ej ske om avbokning sker se
 nare än 30 dagar innan. Du kan ge din plats till den som står först på res
 ervlista ifall sådan finns.\nBokning: mail till Snapparpsgard@gmail.com\nB
 etalning: swish 123 207 97 62 eller till kontonummer 8214-9\,704 102 496-4
  Surya Consulting AB\nFrågor om yogan: mail till info@ashtangayogamalmo.se
 \n DETALJERAT PROGRAM\n(vi reserverar oss för att programpunkter/teman kan
  anpassas om så behövs)\n \nFredag 1/10\n17.00-18.00 Ankomst och incheck\n
 18.30 Välkomstsamling och introduktion till helgen\n19.45 Lätt kvällsmålti
 d\n \nLördag 2/10\n8 - 8.45 Guidad andning och meditation\n9 - 11 Mysorekl
 ass\n11.30 Brunch\n14 - 17 Temaklass (axelparti\, bålstyrka/stabilitet och
  inversioner)\n18 - 19.30 Middag\n19.30 - 20.30 Föreläsning Ayurveda och h
 älsa\n \nSöndag 3/10\n8 - 8.30 Guidad andning och meditation\n8.45 - 10.45
  Mysoreklass\n11 - 12 Brunch   \n12.15 - 14 Temaklass (bakåtböjningar\, br
 östrygg/ländrygg och höft) samt avslutning
DTSTART:20211001T150000Z
DTEND:20211003T120000Z
GEO:00;0
LOCATION:Snapparps gård
ORGANIZER;CN=:Snapparpsgard@gmail.com
SEQUENCE:1
SUMMARY:ASHTANGA YOGA HELG på SNAPPARPS GÅRD\, ÖSTERLEN
TRANSP:OPAQUE
URL:https://www.ashtangayogamalmo.se/kurser-se/tidigare-evenemang/27-ashtan
 ga-yoga-helg-pa-snapparps-gard-osterlen
END:VEVENT
END:VCALENDAR
