BEGIN:VCALENDAR
VERSION:2.0
PRODID:-//Ashtangayoga Malmö//NONSGML kigkonsult.se iCalcreator 2.30.10//
CALSCALE:GREGORIAN
METHOD:PUBLISH
UID:5c131fe6-58b1-4df6-8fd3-eb6842cb16c6
X-WR-CALNAME:iCagenda
X-WR-CALDESC:Event Management Extension for Joomla!
X-WR-RELCALID:3E26604A-50F4-4449-8B3E-E4F4932D05B5
X-WR-TIMEZONE:Europe/Stockholm
BEGIN:VTIMEZONE
TZID:Europe/Stockholm
BEGIN:STANDARD
TZNAME:CET
DTSTART:20241027T030000
TZOFFSETFROM:+0200
TZOFFSETTO:+0100
RDATE:20251026T030000
RDATE:20261025T030000
END:STANDARD
BEGIN:DAYLIGHT
TZNAME:CEST
DTSTART:20250330T020000
TZOFFSETFROM:+0100
TZOFFSETTO:+0200
RDATE:20260329T020000
END:DAYLIGHT
END:VTIMEZONE
BEGIN:VEVENT
UID:422d7980-2f74-4402-9aec-273c696f0a80
DTSTAMP:20260419T161520Z
CATEGORIES:Fördjupning
CLASS:PUBLIC
DESCRIPTION;ALTREP="CID:<FFFF__=0ABBE548DFE235B58f9e8a93d@coffeebean.com>":
 Klassen är del av en 'mini-fördjupning' som äger rum vid fyra tillfällen u
 nder våren 2025 (söndagar efter mysoreklassen). Här får deltagaren chans a
 tt djupdyka i andningens betydelse genom utförandet av olika andningsövnin
 gar/pranayama och mantrachanting. \nVid varje tillfälle går vi även igenom
  valda delar av texten ”Yoga Sutra” av Patanjali. Vi lär oss recitera sutr
 orna\, diskuterar deras betydelse och relevans för yogautövandet samt hur 
 vi kan relatera till yogafilosofin och anpassa den i vår vardag. \nKlasser
 na är öppna för alla nivåer av yogautövare men det är fördelaktigt att ha 
 tidigare yogaerfarenhet. Man kan delta i enskilda klasser men störst först
 åelse och behållning får den som deltar vid samtliga tillfällen.\nDatum oc
 h tid: söndag 2/2\, 30/3\, 27/4\, 25/5 kl 11.30-13.00\nLärare: Isabella Ni
 tschke\nPris: per gång 185kr (klippkort kan användas)\nBokning: via vår pa
 rtner Medborgarskolan. Antalet platser är begränsat.\nTillfälle 1 - 2 febr
 uari - boka här\nTillfälle 2 - 30 mars - boka här\nTillfälle 3 - 27 april 
 - boka här\nTillfälle 4 - 25 maj - boka här\nFrågor: Kontakta oss om du un
 drar något info@ashtangayogamalmo.se 
DTSTART:20250525T093000Z
DTEND:20250525T093000Z
GEO:00;0
LOCATION:Ashtanga Yoga Malmö
ORGANIZER;CN=:info@ashtangayogamalmo.se
SEQUENCE:1
SUMMARY:Pranayama\, chanting och yogafilosofi (4ggr)
TRANSP:OPAQUE
URL:https://www.ashtangayogamalmo.se/kurser-se/tidigare-evenemang/263-prana
 yama-chanting-och-yogafilosofi-4ggr
END:VEVENT
END:VCALENDAR
