BEGIN:VCALENDAR
VERSION:2.0
PRODID:-//Ashtangayoga Malmö//NONSGML kigkonsult.se iCalcreator 2.30.10//
CALSCALE:GREGORIAN
METHOD:PUBLISH
UID:63d93fdf-58bc-4126-9050-b1cc400ab5c2
X-WR-CALNAME:iCagenda
X-WR-CALDESC:Event Management Extension for Joomla!
X-WR-RELCALID:3E26604A-50F4-4449-8B3E-E4F4932D05B5
X-WR-TIMEZONE:Europe/Stockholm
BEGIN:VTIMEZONE
TZID:Europe/Stockholm
BEGIN:STANDARD
TZNAME:CET
DTSTART:20241027T030000
TZOFFSETFROM:+0200
TZOFFSETTO:+0100
RDATE:20251026T030000
END:STANDARD
BEGIN:DAYLIGHT
TZNAME:CEST
DTSTART:20240331T020000
TZOFFSETFROM:+0100
TZOFFSETTO:+0200
RDATE:20250330T020000
RDATE:20260329T020000
END:DAYLIGHT
END:VTIMEZONE
BEGIN:VEVENT
UID:0bc7d657-d1b5-4697-a717-77f329428947
DTSTAMP:20260419T161515Z
CATEGORIES:Avslappning
CLASS:PUBLIC
DESCRIPTION;ALTREP="CID:<FFFF__=0ABBE548DFE235B58f9e8a93d@coffeebean.com>":
 \n\n\nYin yoga är en lugn och avslappnande yogaform där man ger sig tid ti
 ll att ”bara vara”. Vi släpper alla prestationskrav och impulsen att ”göra
 ” något för att istället öva på att vara i nuet och känna hur kroppen känn
 s.\nI yin yoga intas varje position med hjälp av tyngdkraften och tillsamm
 ans med fokus på andningen underlättar vi för kroppens muskler att slappna
  av. Vi stannar ca 3-5 minuter i varje position: på så vis stimuleras och 
 töjs bindväven som håller samman kroppens samtliga organ och muskler.\nYin
  yoga är ett bra komplement till annan fysisk aktivitet såsom löpning elle
 r mer dynamiska yogastilar och passar särskilt bra om man känner sig stel.
  Alla är välkomna oavsett erfarenhet!\nKlassens upplägg:\n\nLanda på matta
 n. Lätta rörelser för att känna in kroppen.\nYin yoga positioner\nAndnings
 övningar/ Meditation/Stillhet.\n\nTid: Torsdagar kl 17.30 – 18:45 med star
 t den 23/1 -2025 totalt 6 gånger (paus v.8)\nPris: 950kr (existerande medl
 emmar kan använda sina medlems/klippkort för att gå kursen eller drop-in m
 en förhandsregistrering via Medborgarskolan krävs)\nKursledare: Helena Fre
 ntzell\nAnmälan: Anmälan och betalning görs via vår partner Medborgarskola
 n (klicka här)\nVälkommen att maila oss vid frågor.\n\n\n
DTSTART:20250123T163000Z
DTEND:20250123T174500Z
GEO:00;0
LOCATION:Ashtanga Yoga Malmö
ORGANIZER;CN=:info@ashtangayogamalmo.se
SEQUENCE:1
SUMMARY:YIN YOGA (6 ggr)
TRANSP:OPAQUE
URL:https://www.ashtangayogamalmo.se/kurser-se/tidigare-evenemang/261-yin-y
 oga-6-ggr
END:VEVENT
END:VCALENDAR
