BEGIN:VCALENDAR
VERSION:2.0
PRODID:-//Ashtangayoga Malmö//NONSGML kigkonsult.se iCalcreator 2.30.10//
CALSCALE:GREGORIAN
METHOD:PUBLISH
UID:a5cf338d-366a-4fbb-863e-01f13a39f79f
X-WR-CALNAME:iCagenda
X-WR-CALDESC:Event Management Extension for Joomla!
X-WR-RELCALID:3E26604A-50F4-4449-8B3E-E4F4932D05B5
X-WR-TIMEZONE:Europe/Stockholm
BEGIN:VTIMEZONE
TZID:Europe/Stockholm
BEGIN:STANDARD
TZNAME:CET
DTSTART:20241027T030000
TZOFFSETFROM:+0200
TZOFFSETTO:+0100
RDATE:20251026T030000
END:STANDARD
BEGIN:DAYLIGHT
TZNAME:CEST
DTSTART:20240331T020000
TZOFFSETFROM:+0100
TZOFFSETTO:+0200
RDATE:20250330T020000
RDATE:20260329T020000
END:DAYLIGHT
END:VTIMEZONE
BEGIN:VEVENT
UID:a56ddc9d-96c0-4edd-9813-50a928ec1896
DTSTAMP:20260419T174915Z
CATEGORIES:Social sammankomst
CLASS:PUBLIC
DESCRIPTION;ALTREP="CID:<FFFF__=0ABBE548DFE235B58f9e8a93d@coffeebean.com>":
 Efter den ledda klassen söndagen den 8:e december bjuder Ashtanga Yoga Mal
 mö in till fest och vår årliga adventsbrunch (knytkalas). Tillsammans avsl
 utar vi året (även om det är några veckor kvar på terminen)\, umgås\, äter
  och dricker gott. Det blir ett tillfälle för oss lärare att tacka för all
 a deltagares engagemang och för oss att lära känna varandra bättre utanför
  yogamattan. Kan man inte komma på klassen före är man såklart välkommen a
 tt ansluta enbart till brunchen. \nDetta event är ett mycket uppskattat ti
 llfälle som vi ser fram emot varje år! Familjemedlemmar\, partners\, vänne
 r\, barn är alla också välkomna att ansluta. Ju fler vi blir desto härliga
 re. NYTT för i år är att Victoria\, Jenny\, Matilda\, Martin och Sotiris b
 juder in till kirtan med musik\, sång och ev .dans (se separat event här).
  Kirtan börjar kl 12 och kräver särskild bokning och betalning (se nedan).
 \nVi ber alla att att ta med ett vegetariskt/veganskt bidrag till buffén. 
 Te\, kaffe\, frukt och plantbaserad dryck kommer att finnas på plats så de
 tta behöver ni inte ta med. \nDatum: 8/12-2024\nTid: brunch kl. 11-14.00 \
 , kirtan kl. 12-13.30\nAnmälan till brunchen: maila info@ashtangayogamalmo
 .se\nBoka kirtan: anmälan och betalning (pris 200kr) görs via vår partner 
 Medborgarskolan (klicka här)
DTSTART:20241208T100000Z
DTEND:20241208T130000Z
GEO:00;0
LOCATION:Ashtanga Yoga Malmö
ORGANIZER;CN=:info@ashtangayogamalmo.se
SEQUENCE:1
SUMMARY:Adventsbrunch/knytkalas & kirtan
TRANSP:OPAQUE
URL:https://www.ashtangayogamalmo.se/kurser-se/tidigare-evenemang/239-adven
 tsbrunch-knytkalas-kirtan
END:VEVENT
END:VCALENDAR
