BEGIN:VCALENDAR
VERSION:2.0
PRODID:-//Ashtangayoga Malmö//NONSGML kigkonsult.se iCalcreator 2.30.10//
CALSCALE:GREGORIAN
METHOD:PUBLISH
UID:076b4320-adb6-4b35-b0fe-b81dd36d5347
X-WR-CALNAME:iCagenda
X-WR-CALDESC:Event Management Extension for Joomla!
X-WR-RELCALID:3E26604A-50F4-4449-8B3E-E4F4932D05B5
X-WR-TIMEZONE:Europe/Stockholm
BEGIN:VTIMEZONE
TZID:Europe/Stockholm
BEGIN:STANDARD
TZNAME:CET
DTSTART:20241027T030000
TZOFFSETFROM:+0200
TZOFFSETTO:+0100
RDATE:20251026T030000
END:STANDARD
BEGIN:DAYLIGHT
TZNAME:CEST
DTSTART:20240331T020000
TZOFFSETFROM:+0100
TZOFFSETTO:+0200
RDATE:20250330T020000
RDATE:20260329T020000
END:DAYLIGHT
END:VTIMEZONE
BEGIN:VEVENT
UID:da71bd79-b25c-42c8-90b8-edc42a5ded86
DTSTAMP:20260419T175644Z
CATEGORIES:Retreat (se)
CLASS:PUBLIC
DESCRIPTION;ALTREP="CID:<FFFF__=0ABBE548DFE235B58f9e8a93d@coffeebean.com>":
 Börja år 2025 med detta 7-dagars retreat som låter dig återfå balansen och
  hitta energi för kropp\, sinne och själ.\nVeckan ger dig möjlighet att up
 pleva och utforska hur en regelbunden yogapraktik kan hjälpa dig att återt
 a kontrollen över din egen hälsa och hitta balansen i tillvaron. Du erbjud
 s dagliga morgonklasser i sk Mysore-stil - egenträning med assistans\, fys
 iska och verbala justeringar och råd. Innan morgonklassen håller Isabella 
 en kortare meditation kombinerat med pranayama och chanting för att förber
 eda inför asanautövandet. Om eftermiddagarna hålls särskilda workshops med
  olika teman och fokus på vilken roll ashtangayogans åtta grenar kan spela
  för vårt fysiska och mentala välbefinnande. Vi varierar praktiska moment 
 med teori och lägger grunden för en hållbar\, långsiktig praktik. Varje ef
 termiddagspass avslutas med en guidad avslappning. Veckan välkomnar både f
 ör erfarna utövare av Ashtanga yoga såväl som nybörjare.\nDatum: 18–25 jan
 uari 2025\nPlats: Purple Valley Yoga Center Teneriffa\nPriser och bokning:
  ALL information om retreat-centret\, boende\, priser och bokning\, var vä
 nlig besök Purple Valleys hemsida \nFrågor: Om du har frågor angående yoga
 undervisningen och programmet ber vi dig konsultera den engelska versionen
  av vår hemsida. Där hittar du ett detaljerat program för veckan. Du är oc
 kså välkommen att kontakta oss via e-post.\nFör andra frågor angående retr
 eatet vänligen kontakta Purple Valley Teneriffa .
DTSTART:20250118T140000Z
DTEND:20250125T110000Z
GEO:00;0
LOCATION:Purple Valley Yoga Centre Tenerife
ORGANIZER;CN=:info@ashtangayogamalmo.se
SEQUENCE:1
SUMMARY:Ashtanga Yoga Retreat med Isabella vid Purple Valley Tenerife
TRANSP:OPAQUE
URL:https://www.ashtangayogamalmo.se/kurser-se/tidigare-evenemang/238-ashta
 nga-yoga-retreat-med-isabella-vid-purple-valley-tenerife
END:VEVENT
END:VCALENDAR
