BEGIN:VCALENDAR
VERSION:2.0
PRODID:-//Ashtangayoga Malmö//NONSGML kigkonsult.se iCalcreator 2.30.10//
CALSCALE:GREGORIAN
METHOD:PUBLISH
UID:0f14e794-a8a2-4b5d-b151-942f6b865b4f
X-WR-CALNAME:iCagenda
X-WR-CALDESC:Event Management Extension for Joomla!
X-WR-RELCALID:3E26604A-50F4-4449-8B3E-E4F4932D05B5
X-WR-TIMEZONE:Europe/Stockholm
BEGIN:VTIMEZONE
TZID:Europe/Stockholm
BEGIN:STANDARD
TZNAME:CET
DTSTART:20231029T030000
TZOFFSETFROM:+0200
TZOFFSETTO:+0100
RDATE:20241027T030000
RDATE:20251026T030000
END:STANDARD
BEGIN:DAYLIGHT
TZNAME:CEST
DTSTART:20240331T020000
TZOFFSETFROM:+0100
TZOFFSETTO:+0200
RDATE:20250330T020000
END:DAYLIGHT
END:VTIMEZONE
BEGIN:VEVENT
UID:eeccc744-ff0b-40e2-aed1-34a92f7a1f6d
DTSTAMP:20260419T174916Z
CATEGORIES:Social sammankomst
CLASS:PUBLIC
DESCRIPTION;ALTREP="CID:<FFFF__=0ABBE548DFE235B58f9e8a93d@coffeebean.com>":
 \n\nHelgen den 31/8-1/9 Ashtanga Yoga Malmö för fjärde året i rad i det år
 liga evenemanget Ribban Yogafestival vid T-bryggan på Ribersborgsstranden 
 i Malmö. Festivalen som arrangeras av flera av Malmös yogastudios pågår i 
 två dagar och deltagare erbjuds ett stort urval yogaklasser för alla olika
  nivåer av yogautövare. Vi är flera från yogaskolan som kommer vara på pla
 ts och vi söker även volontärer som kan hjälpa oss (som volontär får man d
 elta gratis i festivalens klassutbud). Hör av dig om du vill hjälpa till.
 \nFör att delta i festivalen och klasserna som erbjuds behöver man köpa bi
 ljett i förväg. Hela festivalprogrammet och mer information om festivalen 
 hittar du här.\nTid (för Ashtanga Yoga Malmös klasser):\nLördag 31/8\n10.0
 0 Yoga för stressreducering (Isabella)\n15.00 Intro till Ashtanga yoga (He
 lena)\nPlats: trädäcket vid T-bryggan (brygga 3)\nPris: biljetter köps i f
 örväg (dagspass eller helgpass) - Använd koden AYM100 så får du rabatt. Me
 r info och köp av biljetter här .\nFestivalprogrammet innehåller både klas
 ser på svenska och engelska. Kom och träffa oss på festivalen. Vi finns på
  plats före och efter klass på lördagen.\nVälkomna!\n\n
DTSTART:20240831T070000Z
DTEND:20240901T160000Z
GEO:00;0
LOCATION:T-bryggan\, Ribersborgsstranden
ORGANIZER;CN=:hej@nellierolf.se
SEQUENCE:1
SUMMARY:Ribban yogafestival 2024
TRANSP:OPAQUE
URL:https://www.ashtangayogamalmo.se/kurser-se/tidigare-evenemang/231-ribba
 n-yogafestival-2024
END:VEVENT
END:VCALENDAR
