BEGIN:VCALENDAR
VERSION:2.0
PRODID:-//Ashtangayoga Malmö//NONSGML kigkonsult.se iCalcreator 2.30.10//
CALSCALE:GREGORIAN
METHOD:PUBLISH
UID:1b665755-8378-4db3-85e7-7ae20fb6033b
X-WR-CALNAME:iCagenda
X-WR-CALDESC:Event Management Extension for Joomla!
X-WR-RELCALID:3E26604A-50F4-4449-8B3E-E4F4932D05B5
X-WR-TIMEZONE:Europe/Stockholm
BEGIN:VTIMEZONE
TZID:Europe/Stockholm
BEGIN:STANDARD
TZNAME:CET
DTSTART:20231029T030000
TZOFFSETFROM:+0200
TZOFFSETTO:+0100
RDATE:20241027T030000
RDATE:20251026T030000
END:STANDARD
BEGIN:DAYLIGHT
TZNAME:CEST
DTSTART:20240331T020000
TZOFFSETFROM:+0100
TZOFFSETTO:+0200
RDATE:20250330T020000
END:DAYLIGHT
END:VTIMEZONE
BEGIN:VEVENT
UID:f3c8f582-1f38-4aa4-afbd-f6718471b721
DTSTAMP:20260419T175252Z
CATEGORIES:Social sammankomst
CLASS:PUBLIC
DESCRIPTION;ALTREP="CID:<FFFF__=0ABBE548DFE235B58f9e8a93d@coffeebean.com>":
 Efter guidad klass söndagen den 9:e juni bjuder vi in till knytkalas med m
 usik och sång. Ta med något gott till fikat och sjung med oss\, dansa elle
 r bara lyssna till toner och rytm. \nKirtan är en del av Bhaktiyogan (häng
 ivenhetens yoga)\, som har sitt ursprung i Indien. Under kirtan sjunger ma
 n mantras som oftast har en symbolisk betydelse och en vibrationsmässig to
 n till de symboler man sjunger för. Alla som vill deltar i sången (call &a
 mp\; response) men man kan också bara lyssna om man vill.\nMatilda\, Jenny
 \, Victoria och Martin som står för musik och sång\, har alla olika musika
 lisk bakgrund men delar samma intention att föra vidare glädjen och leken 
 med musiken. Detta event inspireras av musik från Sydamerikas urbefolkning
  och gruppen väver samman sång från öst till väst. \n Alla är välkommna - 
 stora som små\, med eller utan tidigare erfarenhet av kirtan! \nFöreslagen
  donation: 100-250 kr (görs på plats via swish)\nDag och tid: söndag 9 jun
 i 11.30-13:30 (fikat börjar kl 11)\nPlats:  Grangatan 2\, Värnhem / Ashtan
 ga Yoga Malmö\nKontakt: info@ashtangayogamalmo.se
DTSTART:20240609T093000Z
DTEND:20240609T113000Z
GEO:00;0
LOCATION:Ashtanga Yoga Malmö
ORGANIZER;CN=:info@ashtangayogamalmo.se
SEQUENCE:1
SUMMARY:Sommarevent -  Kirtan & sånger från Sydamerika
TRANSP:OPAQUE
URL:https://www.ashtangayogamalmo.se/kurser-se/tidigare-evenemang/227-somma
 revent-kirtan-sanger-fran-sydamerika
END:VEVENT
END:VCALENDAR
