BEGIN:VCALENDAR
VERSION:2.0
PRODID:-//Ashtangayoga Malmö//NONSGML kigkonsult.se iCalcreator 2.30.10//
CALSCALE:GREGORIAN
METHOD:PUBLISH
UID:e0038588-ac4e-42e6-af34-1f5defea74ef
X-WR-CALNAME:iCagenda
X-WR-CALDESC:Event Management Extension for Joomla!
X-WR-RELCALID:3E26604A-50F4-4449-8B3E-E4F4932D05B5
X-WR-TIMEZONE:Europe/Stockholm
BEGIN:VTIMEZONE
TZID:Europe/Stockholm
BEGIN:STANDARD
TZNAME:CET
DTSTART:20231029T030000
TZOFFSETFROM:+0200
TZOFFSETTO:+0100
RDATE:20241027T030000
RDATE:20251026T030000
END:STANDARD
BEGIN:DAYLIGHT
TZNAME:CEST
DTSTART:20240331T020000
TZOFFSETFROM:+0100
TZOFFSETTO:+0200
RDATE:20250330T020000
END:DAYLIGHT
END:VTIMEZONE
BEGIN:VEVENT
UID:5f3f9a4b-646a-45d6-80f3-46e533799a9e
DTSTAMP:20260419T192356Z
CATEGORIES:Introduktion
CLASS:PUBLIC
DESCRIPTION;ALTREP="CID:<FFFF__=0ABBE548DFE235B58f9e8a93d@coffeebean.com>":
 Välkommen till denna introduktionsklass i ashtanga yoga måndagen den 17/6 
 kl 17.15-19. Klassen ger dig chans att prova på ashtanga yoga och med efte
 rföljande gratis träning på alla våra mysoreklasser (morgon) i två veckor 
 direkt efter introduktionstillfället (läs mer nedan).\nIntroduktionen ger 
 dig en kort inblick i ashtanga yogans grunder och riktar sig till dig som 
 aldrig provat yoga tidigare men även till den som redan tränat andra typer
  av yoga och som vill lära sig ashtanga yogans särskilda metod. Fokus för 
 klassen ligger på att bli bekant med den egna andningen samt utövandet av 
 solhälsning A+B och några avslutande positioner ifrån Ashtanga Yogans förs
 ta serie. Du får även snabb sammanfattning av yogans bakgrund och filosofi
 \, dess hälsofördelar för både kropp och sinne samt tips på hur du kan kom
 ma igång med en regelbunden praktik.\nAlla deltagare erbjuds att direkt ef
 ter introduktionstillfället – UTAN EXTRA KOSTNAD – delta i två veckors mys
 oreklasser (sättet man traditionellt utövar Ashtanga yoga). Läs mer om mys
 oreklasserna under klassbeskrivning\nDatum &amp\; tid: måndag 17/6 kl 17.1
 5-19\nPris: 250kr\nLedare: Isabella Nitschke\, auktoriserad nivå II av Sha
 rath Jois i Mysore\, Indien\nBokning: Klassen ges i samarbete med Medborga
 rskolan och anmälan görs via deras hemsida (klicka på länken). Vi har en å
 ldersgräns på 16 år och deltagare under 18 år behöver målsmans godkännande
 .\nFrågor: maila oss info@ashtangayogamalmo.se
DTSTART:20240617T151500Z
DTEND:20240617T170000Z
GEO:00;0
LOCATION:Ashtanga Yoga Malmö
ORGANIZER;CN=:info@ashtangayogamalmo.se
SEQUENCE:1
SUMMARY:Ashtanga yoga introduktionsklass
TRANSP:OPAQUE
URL:https://www.ashtangayogamalmo.se/kurser-se/tidigare-evenemang/212-ashta
 nga-yoga-introduktionsklass
END:VEVENT
END:VCALENDAR
