BEGIN:VCALENDAR
VERSION:2.0
PRODID:-//Ashtangayoga Malmö//NONSGML kigkonsult.se iCalcreator 2.30.10//
CALSCALE:GREGORIAN
METHOD:PUBLISH
UID:e537f5eb-c617-40ec-8c3e-d9f70c1c70fe
X-WR-CALNAME:iCagenda
X-WR-CALDESC:Event Management Extension for Joomla!
X-WR-RELCALID:3E26604A-50F4-4449-8B3E-E4F4932D05B5
X-WR-TIMEZONE:Europe/Stockholm
BEGIN:VTIMEZONE
TZID:Europe/Stockholm
BEGIN:STANDARD
TZNAME:CET
DTSTART:20231029T030000
TZOFFSETFROM:+0200
TZOFFSETTO:+0100
RDATE:20241027T030000
RDATE:20251026T030000
END:STANDARD
BEGIN:DAYLIGHT
TZNAME:CEST
DTSTART:20240331T020000
TZOFFSETFROM:+0100
TZOFFSETTO:+0200
RDATE:20250330T020000
END:DAYLIGHT
END:VTIMEZONE
BEGIN:VEVENT
UID:a260bb2e-eee6-4e8f-a08d-added96642b1
DTSTAMP:20260419T175329Z
CATEGORIES:Fördjupning
CLASS:PUBLIC
DESCRIPTION;ALTREP="CID:<FFFF__=0ABBE548DFE235B58f9e8a93d@coffeebean.com>":
 Klassen är en 'mini-fördjupning' äger rum vid fyra separata tillfällen und
 er våren 2024 (söndagar efter mysoreklassen). Här får deltagaren chans att
  djupdyka i teknik av enskilda asanas\, förstå logiken bakom sekvenserna i
  ashtanga yoga\, utforska mobilitetsövningar\, få tips på hur man bäst byg
 ger styrka och stabilitet och/eller få svar på andra praktiska frågor.\nVa
 rje klass har ett särskilt tema som strävar efter att ge deltagarna inspir
 ation och nya insikter till fysiska delen av yoga utövandet. Vi utforskar 
 och yogar på ett ett lekfullt vis med målet att fördjupa deltagarnas först
 åelse och kunskap av olika asanas funktion och grundläggande principer.\nK
 lasserna innehåller både lättare och mer avancerade övningar och är öppna 
 för alla nivåer av yogautövare utom helt nybörjare. Man kan delta i enskil
 da klasser men störst förståelse och behållning får den som deltar vid sam
 tliga tillfällen (rabatt erhålles vid boking av alla fyra tillfällen) \nTi
 d: en söndag per månad kl 11.30-13.30\nDatum: 4/2\, 3/3\, 14/4\, 26/5\nTem
 a:\n4/2 – höfter (anmäl dig här)\n3/3 – vridningar/twists (anmäl dig här)
 \n14/4 – bakåtböjningar (anmäl dig här)\n26/5 – armbalanser och inversione
 r (anmäl dig här)\nLärare: Isabella Nitschke\nPris: per enstaka gång 250kr
  / alla 4 tillfällen 800kr\nBokning: via vår partner Medborgarskolan. Anmä
 lan till respektive tillfälle sker via länkarna efter varje klass. Antalet
  platser är begränsat.\nKontakta oss per email om du har frågor info@ashta
 ngayogamalmo.se
DTSTART:20240526T093000Z
DTEND:20240526T093000Z
GEO:00;0
LOCATION:Ashtanga Yoga Malmö
ORGANIZER;CN=:info@ashtangayogamalmo.se
SEQUENCE:1
SUMMARY:Yoga-asana teknikklass
TRANSP:OPAQUE
URL:https://www.ashtangayogamalmo.se/kurser-se/tidigare-evenemang/198-yoga-
 asana-teknikklass/2024-05-26-11-30
END:VEVENT
END:VCALENDAR
