BEGIN:VCALENDAR
VERSION:2.0
PRODID:-//Ashtangayoga Malmö//NONSGML kigkonsult.se iCalcreator 2.30.10//
CALSCALE:GREGORIAN
METHOD:PUBLISH
UID:21785d81-1c25-4cff-819e-9619f9d97b6a
X-WR-CALNAME:iCagenda
X-WR-CALDESC:Event Management Extension for Joomla!
X-WR-RELCALID:3E26604A-50F4-4449-8B3E-E4F4932D05B5
X-WR-TIMEZONE:Europe/Stockholm
BEGIN:VTIMEZONE
TZID:Europe/Stockholm
BEGIN:STANDARD
TZNAME:CET
DTSTART:20231029T030000
TZOFFSETFROM:+0200
TZOFFSETTO:+0100
RDATE:20241027T030000
END:STANDARD
BEGIN:DAYLIGHT
TZNAME:CEST
DTSTART:20230326T020000
TZOFFSETFROM:+0100
TZOFFSETTO:+0200
RDATE:20240331T020000
RDATE:20250330T020000
END:DAYLIGHT
END:VTIMEZONE
BEGIN:VEVENT
UID:f6a4ff68-f262-44a3-a148-c6f5ce1fb129
DTSTAMP:20260419T175221Z
CATEGORIES:Donationsklass
CLASS:PUBLIC
DESCRIPTION;ALTREP="CID:<FFFF__=0ABBE548DFE235B58f9e8a93d@coffeebean.com>":
 \nAtt utöva yoga innefattar mer än att bara göra positioner på yogamattan.
  Karma yoga eller Seva – som betyder osjälviskt handlande – är också en vi
 ktig del. Vi vill därför avsluta året i givandets tecken med en guidad kla
 ss av Ashtangayogans första serie till förmån för organisationen V-Care i 
 Mysore\, Indien.\nAshtanga Yoga Malmö stödjer sedan flera år i samarbete m
 ed Yogashala Stockholm organisationen V-Care i Mysore\, Indien. V-Care arb
 etar för social förändring\, stärkande av flickor och barns rättigheter sa
 mt att ge barn från de kastlösa grupperna utbildning och en bättre framtid
 . Du kan läsa mer om V-Care och Karma yoga här\nI år äger klassen rum på n
 yårsaftons morgon och vi avslutar 2023 med en god gärning tillsammans. Sön
 dagen den 31/12 kl 9 leder Isabella en klass av första serien enligt tradi
 tion på Sanskrit och engelska. Man behöver inte kunna hela första serien f
 ör att delta men det är en fördel att vara bekant med grunderna i ashtanga
 yogans system. Kan du inte delta får du gärna skicka ett bidrag ändå (se h
 ur nedan)\nDatum: söndag 31/12\nTid: 9-11\nKostnad: Klassen kostar inget (
 utöver din donation). Du kan ge ditt bidrag kontant på plats ELLER via swi
 sh till V-Care Sweden 123 576 46 91\nAnmälan: görs i förväg vår partner Me
 dborgarskolan (klicka på länken)\nLedare: Helena Frentzell\n
DTSTART:20231231T080000Z
DTEND:20231231T100000Z
GEO:00;0
LOCATION:Ashtanga Yoga Malmö
ORGANIZER;CN=:info@ashtangayogamalmo.se
SEQUENCE:1
SUMMARY:NYÅRSYOGA - årets sista klass
TRANSP:OPAQUE
URL:https://www.ashtangayogamalmo.se/kurser-se/tidigare-evenemang/187-nyars
 yoga-arets-sista-klass
END:VEVENT
END:VCALENDAR
