BEGIN:VCALENDAR
VERSION:2.0
PRODID:-//Ashtangayoga Malmö//NONSGML kigkonsult.se iCalcreator 2.30.10//
CALSCALE:GREGORIAN
METHOD:PUBLISH
UID:f2a5d4f3-6345-4586-b8f3-03701dcac30c
X-WR-CALNAME:iCagenda
X-WR-CALDESC:Event Management Extension for Joomla!
X-WR-RELCALID:3E26604A-50F4-4449-8B3E-E4F4932D05B5
X-WR-TIMEZONE:Europe/Stockholm
BEGIN:VTIMEZONE
TZID:Europe/Stockholm
BEGIN:STANDARD
TZNAME:CET
DTSTART:20221030T030000
TZOFFSETFROM:+0200
TZOFFSETTO:+0100
RDATE:20231029T030000
RDATE:20241027T030000
END:STANDARD
BEGIN:DAYLIGHT
TZNAME:CEST
DTSTART:20230326T020000
TZOFFSETFROM:+0100
TZOFFSETTO:+0200
RDATE:20240331T020000
RDATE:20250330T020000
END:DAYLIGHT
END:VTIMEZONE
BEGIN:VEVENT
UID:bbbc42c2-2381-4232-87d9-d2a4b00ebd63
DTSTAMP:20260419T175134Z
CATEGORIES:Avslappning
CLASS:PUBLIC
DESCRIPTION;ALTREP="CID:<FFFF__=0ABBE548DFE235B58f9e8a93d@coffeebean.com>":
 En gång per månad under höstterminen får du en chans att koppla av och åte
 rhämta dig med metoden Restorative yoga. Klassen leds av Miho Hellén-Halme
  och du kan delta vid enstaka tillfällen eller alla fyra gånger. Restorati
 ve yoga kräver inga förkunskaper och är öppen för alla nivåer av yogautöva
 re.\nRestorative yoga handlar om maximal vila och återhämtning. Du ligger 
 i behagliga yogapositioner som inte kräver någon ansträngning för kroppen 
 och stannar där länge för att nå en djup avslappning. Läraren introducerar
  olika metoder för att låta både kropp och sinne komma till ro. Under klas
 sen utförs enbart ett fåtal positioner för att ge muskler och nervsystem t
 id att lugna ned sig. Kom och upplev en välbehövlig avkoppling och tystnad
  en gång i månaden. Alla är välkomna\, oavsett tidigare yogaerfarenhet. \n
 Datum:   15/9\, 13/10\, 17/11\, 15/12\nTid:   17.30-18.30\nLärare:  Miho H
 ellén-Halme\nPris: en gång 175kr (boka alla 4 gånger för 600kr)\nAnmälan: 
 sker via vår partner Medborgarskolan. Boka här (klicka på länken) Antalet 
 platser är begränsat.
DTSTART:20231013T153000Z
DTEND:20231013T153000Z
GEO:00;0
LOCATION:Ashtanga Yoga Malmö
ORGANIZER;CN=:info@ashtangayogamalmo.se
SEQUENCE:1
SUMMARY:Restorative yoga (4ggr HT-23)
TRANSP:OPAQUE
URL:https://www.ashtangayogamalmo.se/kurser-se/tidigare-evenemang/175-resto
 rative-yoga-4ggr-ht-23/2023-10-13-17-30
END:VEVENT
END:VCALENDAR
