BEGIN:VCALENDAR
VERSION:2.0
PRODID:-//Ashtangayoga Malmö//NONSGML kigkonsult.se iCalcreator 2.30.10//
CALSCALE:GREGORIAN
METHOD:PUBLISH
UID:0bbf0332-f5b4-48dc-a176-ed0935bc7931
X-WR-CALNAME:iCagenda
X-WR-CALDESC:Event Management Extension for Joomla!
X-WR-RELCALID:3E26604A-50F4-4449-8B3E-E4F4932D05B5
X-WR-TIMEZONE:Europe/Stockholm
BEGIN:VTIMEZONE
TZID:Europe/Stockholm
BEGIN:STANDARD
TZNAME:CET
DTSTART:20221030T030000
TZOFFSETFROM:+0200
TZOFFSETTO:+0100
RDATE:20231029T030000
RDATE:20241027T030000
END:STANDARD
BEGIN:DAYLIGHT
TZNAME:CEST
DTSTART:20230326T020000
TZOFFSETFROM:+0100
TZOFFSETTO:+0200
RDATE:20240331T020000
END:DAYLIGHT
END:VTIMEZONE
BEGIN:VEVENT
UID:6fe7e35e-1602-4d9c-93dd-9098f8945d29
DTSTAMP:20260419T175525Z
CATEGORIES:Grundkurs
CLASS:PUBLIC
DESCRIPTION;ALTREP="CID:<FFFF__=0ABBE548DFE235B58f9e8a93d@coffeebean.com>":
 Kursen passar dig som redan gått en grund/nybörjarkurs i Ashtanga yoga hos
  oss och/eller vid en annan yogaskola och som önskar fortsätta med guidad 
 klass istället för\, eller parallellt med\, mysoreklasser. Personer som ti
 digare utövat Ashtanga och som gjort uppehåll eller vill fräscha upp sitt 
 minne rekommenderas också denna kurs.\nVid varje tillfälle leds du genom h
 ela eller en del av den stående sekvensen i ashtangayogans första serie. D
 ärefter får du chans att fortsätta i din egen takt med vägledning av lärar
 en. Fokus läggs särskilt på andningsteknik i koordination med rörelse och 
 kroppslås. Tempot är långsammare än en traditionellt guidad klass och lära
 ren visar positionerna vid behov. Du får även chans att öva på egen hand s
 k mysorestyle. Syftet med kursen är att du ska lära dig korrekt vinyasa oc
 h andning\, minnas sekvensen och bli mer självständig i ditt yogautövande.
 \nFör vem? Du bör ha gått en grundkurs i ashtangayoga.  Du kan anmäla dig 
 och gå en hel kurs eller använda ditt klipp/periodkort för drop-in klasser
  (föranmälan via Medborgarskolan krävs alltid).\nTid och dag: Onsdagar kl.
  17-30-19.00 med start 6/9-2023 (8ggr)\nPris: 1250kr (student och seniorra
 batt 20% erhålles). I kursen ingår en gratis Mysoreklass per vecka (valfri
  dag) utöver kurstillfällena\nLärare: Helena Frentzell\nAnmälan: Kursen ge
 s i samarbete med Medborgarskolan. Anmälan och betalning görs via Medborga
 rskolan (klicka på länken). Vi har en åldersgräns på 16 år och deltagare u
 nder 18 år behöver målsmans godkännande.\nHar du frågor är du välkommen at
 t höra av dig till oss per email
DTSTART:20230906T153000Z
DTEND:20230906T170000Z
GEO:00;0
LOCATION:Ashtanga Yoga Malmö
ORGANIZER;CN=:info@ashtangayogamalmo.se
SEQUENCE:1
SUMMARY:Ashtangayoga grundkurs/fortsättning nivå 2 (8ggr)
TRANSP:OPAQUE
URL:https://www.ashtangayogamalmo.se/kurser-se/tidigare-evenemang/166-ashta
 ngayoga-grundkurs-fortsattning-niva-2-8ggr-4
END:VEVENT
END:VCALENDAR
