BEGIN:VCALENDAR
VERSION:2.0
PRODID:-//Ashtangayoga Malmö//NONSGML kigkonsult.se iCalcreator 2.30.10//
CALSCALE:GREGORIAN
METHOD:PUBLISH
UID:a974fb28-6537-42ce-87ca-37b5d32cd779
X-WR-CALNAME:iCagenda
X-WR-CALDESC:Event Management Extension for Joomla!
X-WR-RELCALID:3E26604A-50F4-4449-8B3E-E4F4932D05B5
X-WR-TIMEZONE:Europe/Stockholm
BEGIN:VTIMEZONE
TZID:Europe/Stockholm
BEGIN:STANDARD
TZNAME:CET
DTSTART:20221030T030000
TZOFFSETFROM:+0200
TZOFFSETTO:+0100
RDATE:20231029T030000
RDATE:20241027T030000
END:STANDARD
BEGIN:DAYLIGHT
TZNAME:CEST
DTSTART:20230326T020000
TZOFFSETFROM:+0100
TZOFFSETTO:+0200
RDATE:20240331T020000
END:DAYLIGHT
END:VTIMEZONE
BEGIN:VEVENT
UID:0fcb052f-d4a1-44ff-a7b7-0e658ffab206
DTSTAMP:20260419T174854Z
CATEGORIES:Öppet hus
CLASS:PUBLIC
DESCRIPTION;ALTREP="CID:<FFFF__=0ABBE548DFE235B58f9e8a93d@coffeebean.com>":
 Kom och prova Ashtanga yoga - Yin yoga - Yoga för stressreducering och ta 
 reda på mer om hur du kan börja träna och introducera yoga in i ditt liv. 
 Välkommen att träffa några av våra lärare\, få svar på dina frågor om yoga
 \, allt i en avslappnad och trevlig miljö. Vi bjuder på kaffe och te\, ta 
 gärna med en vän!\nRedan existerande deltagare är välkomna att ta med vänn
 er och familj för att fira Ashtanga Yoga Malmö och Medborgarskolans 10-års
  jubileum i samarbete.Tillsammans med våra deltagare vill vi fira alla år 
 vi tillbringat tillsammans\, och vi ser fram emot många fina år framöver.
 \nDelta i våra provklasser under dagen:\n11.30 Intro till Ashtanga yoga\, 
 45min (Helena)\n12.15 Frågestund &amp\; fika\, 45 min (Isabella\, Helena\,
  Miho)\n13.00 Yoga för stressreducering\, 45 min (Isabella)\n14.00 Yin yog
 a\, 45 min (Miho)\nAnmälan till provklasserna sker via vår partner Medborg
 arskolan (klicka på länken här). OBS! Skriv i meddelanderutan i anmälan vi
 lken/vilka klasser du vill prova på så att vi har en överblick på antalet 
 deltagare.\nSärskilda erbjudanden kommer att finnas på plats den här dagen
 ! Under hela september ges 15% rabatt för nya deltagare på våra kurser och
  vi ger 10% på våra träningskort. Obs\, erbjudandena gäller för kurser som
  startar i september och kort som köps 1-30/9. Kan ej kombineras med andra
  rabatter.
DTSTART:20230910T093000Z
DTEND:20230910T130000Z
GEO:00;0
LOCATION:Ashtanga Yoga Malmö
ORGANIZER;CN=:info@ashtangayogamalmo.se
SEQUENCE:1
SUMMARY:ÖPPET HUS & 10-årsjubileum
TRANSP:OPAQUE
URL:https://www.ashtangayogamalmo.se/kurser-se/tidigare-evenemang/161-oppet
 -hus-10-arsjubileum
END:VEVENT
END:VCALENDAR
