BEGIN:VCALENDAR
VERSION:2.0
PRODID:-//Ashtangayoga Malmö//NONSGML kigkonsult.se iCalcreator 2.30.10//
CALSCALE:GREGORIAN
METHOD:PUBLISH
UID:1298b073-1687-44a1-95cb-c39d56d3c775
X-WR-CALNAME:iCagenda
X-WR-CALDESC:Event Management Extension for Joomla!
X-WR-RELCALID:3E26604A-50F4-4449-8B3E-E4F4932D05B5
X-WR-TIMEZONE:Europe/Stockholm
BEGIN:VTIMEZONE
TZID:Europe/Stockholm
BEGIN:STANDARD
TZNAME:CET
DTSTART:20221030T030000
TZOFFSETFROM:+0200
TZOFFSETTO:+0100
RDATE:20231029T030000
RDATE:20241027T030000
END:STANDARD
BEGIN:DAYLIGHT
TZNAME:CEST
DTSTART:20230326T020000
TZOFFSETFROM:+0100
TZOFFSETTO:+0200
RDATE:20240331T020000
END:DAYLIGHT
END:VTIMEZONE
BEGIN:VEVENT
UID:5befa38a-89b5-4741-9586-fb21b086ce5e
DTSTAMP:20260419T162111Z
CATEGORIES:Social sammankomst
CLASS:PUBLIC
DESCRIPTION;ALTREP="CID:<FFFF__=0ABBE548DFE235B58f9e8a93d@coffeebean.com>":
 \nHelgen den 26-27 augusti deltar Ashtanga Yoga Malmö för tredje året i ra
 d i det årliga evenemanget Ribban Yogafestival vid T-bryggan på Ribersborg
 sstranden i Malmö. Festivalen som arrangeras av flera av Malmös yogastudio
 s pågår i två dagar och deltagare erbjuds ett stort urval yogaklasser för 
 alla olika nivåer av yogautövare. Vi är flera från yogaskolan som kommer v
 ara på plats och vi söker även volontärer som kan hjälpa oss (som volontär
  får man delta gratis i festivalens klassutbud). Hör av dig om du vill hjä
 lpa till.\nFör att delta i festivalen och klasserna som erbjuds behöver ma
 n köpa biljett i förväg. Hela festivalprogrammet och mer information om fe
 stivalen hittar du här.\nTid (för Ashtanga Yoga Malmös klasser):\nLördag 2
 6/8\n10.00 Yoga för stressreducering (Isabella)\n14.00 Intro till Ashtanga
  yoga (Helena)\nSöndag 27/8\n10.00 Yin yoga och  meditation (Miho)\nPlats:
  trädäcket vid T-bryggan (brygga 3)\nPris: biljetter köps i förväg (dagspa
 ss eller helgpass) - Använd koden AYM100 så får du rabatt. Mer info och kö
 p av biljetter här .\nFestivalprogrammet innehåller både klasser på svensk
 a och engelska. Kom och träffa oss på festivalen. Vi finns på plats före o
 ch efter klass  men även som volontärer under helgen.\nVälkomna!\n
DTSTART:20230826T070000Z
DTEND:20230827T140000Z
GEO:00;0
LOCATION:Brygga 3 (T-bryggan)\, Ribersborgstranden i Malmö
ORGANIZER;CN=:hej@nellierolf.se
SEQUENCE:1
SUMMARY:Ashtanga Yoga Malmö vid Ribban yogafestival 26-27 augusti 2023
TRANSP:OPAQUE
URL:https://www.ashtangayogamalmo.se/kurser-se/tidigare-evenemang/159-ashta
 nga-yoga-malmo-vid-ribban-yogafestival-26-27-augusti-2023
END:VEVENT
END:VCALENDAR
