BEGIN:VCALENDAR
VERSION:2.0
PRODID:-//Ashtangayoga Malmö//NONSGML kigkonsult.se iCalcreator 2.30.10//
CALSCALE:GREGORIAN
METHOD:PUBLISH
UID:0c8bfed7-2b8e-4cc8-a4bf-95324c6738f8
X-WR-CALNAME:iCagenda
X-WR-CALDESC:Event Management Extension for Joomla!
X-WR-RELCALID:3E26604A-50F4-4449-8B3E-E4F4932D05B5
X-WR-TIMEZONE:Europe/Stockholm
BEGIN:VTIMEZONE
TZID:Europe/Stockholm
BEGIN:STANDARD
TZNAME:CET
DTSTART:20231029T030000
TZOFFSETFROM:+0200
TZOFFSETTO:+0100
RDATE:20241027T030000
END:STANDARD
BEGIN:DAYLIGHT
TZNAME:CEST
DTSTART:20230326T020000
TZOFFSETFROM:+0100
TZOFFSETTO:+0200
RDATE:20240331T020000
RDATE:20250330T020000
END:DAYLIGHT
END:VTIMEZONE
BEGIN:VEVENT
UID:eb2ddf08-67fe-4843-a124-f07181d3417c
DTSTAMP:20260419T175645Z
CATEGORIES:Filosofi/teori
CLASS:PUBLIC
DESCRIPTION;ALTREP="CID:<FFFF__=0ABBE548DFE235B58f9e8a93d@coffeebean.com>":
 Hösten 2023 har vi äran att ÅTER välkomna Dr Martin Gansten till vår shala
 . Martin kommer att undervisa i en månatlig kurs på totalt 4 klasser under
  höstterminen 2023.\nYoga som koncept och praktik: en historisk sammanfatt
 ning\nYoga är en av de mest mångfacetterade delarna av indisk kultur\, med
  en historia som sträcker sig över mer än två årtusenden. Yogan har utgjor
 t en del av eller interagerat med alla större andliga traditioner på subko
 ntinenten\, inklusive hinduism\, buddhism\, jainism\, islam och sikhism. U
 nder loppet av fyra föreläsningar hösten 2023 (en söndag i månaden) utfors
 kar religionshistorikern Dr Martin Gansten yogans ursprung i kontakterna m
 ellan vediska och icke-vediska traditioner och dess efterföljande utveckli
 ng och överföring\, samt omtolkningar av yoga genom tiderna.\nFöreläsninga
 rna kommer att hållas en söndag i månaden mellan kl 11:00-13:30 (med en ko
 rt paus i mitten). Du kan delta live i klassrummet\, via Zoom och/eller se
  de inspelade sessionerna efteråt. Kursen kommer ges på engelska och vi be
 r dig därför även läsa den mer detaljerade engelska versionen av kursbeskr
 ivningen genom att byta språk på sidan högst upp till höger i menyn. Teman
  och datum för varje söndag är:\n\n Yogans tidiga rötter – söndag 27/8\n Y
 oga som filosofi – söndag 24/9\n Yoga i medeltidens Indien – söndag 26/11
 \n Yoga och det moderna samhället – söndag 17/12 (OBS kl.11.30-14)\n\nPris
 :\nHelkurs 1500 kr (Early bird erbjudande vid anmälan före 30/6 1300 kr)\n
 Enkel klass 450 kr\n*Bokningsregler: boka före den 1/8-2023. Ingen avbokni
 ng eller återbetalning möjlig. Deltagare kan ge sin plats till en annan pe
 rson\, och/eller vid en väntelista går platsen till den första personen på
  listan.\nBokningar och förfrågningar: görs till info@ashtangayogalmo.se\n
 OM MARTIN\nMartin började lära sig Sanskrit på egen hand vid tretton års å
 lder 1982. Till sin hjälp hade han Michael Coulsons primer och Whitneys gr
 ammatik. Hans intresse för indiska tankeformer och religion ledde så småni
 ngom till studier i indologi och sanskrit vid Stockholms universitet (1994
 –96) följt av religionshistoria vid Lunds universitet (MA 1998). Numera bå
 de skriver och talar han Sanskrit flytande och bedriver kontinuerliga stud
 ier i  språk som pali\, medeltida latin och koinegrekiska.\nMartins doktor
 savhandling (2003) kombinerade området för indiska religioner med astrolog
 i i en studie av sydindisk nāḍi-spådom\, delvis baserad på etnografiska me
 toder men främst på sanskrittexter som har sitt ursprung i Kerala och date
 ras till 1700- och 1800-talen. Han är sedan 2010 docent i religionshistori
 a i Lund och bedriver fortsatt forskning inom två huvudområden: Indiens in
 hemska religioner – i synnerhet klassisk och modern hinduism – samt den ho
 roskopiska astrologins framväxt och interkulturella spridning.\nUtöver und
 ervisning vid  Lunds Universitet har Martin även verkat vid Stockholms och
  Linnéuniversiteten\, samt undervisat Indologi och Sanskrit vid Köpenhamns
  Universitet. Han har utkommit med flera publikationer och bland annat öve
 rsatt den indiska texten Bhagavad Gita från Sanskrit till svenska (2001) o
 ch även den första direktöversättningen av Upanishaderna till svenska (200
 5) tillsammans med Måns Broo.\nLäs gärna mer om martin på hans hemsida: ht
 tps://academic.martingansten.com/about/
DTSTART:20231126T100000Z
DTEND:20231126T100000Z
GEO:00;0
LOCATION:Ashtanga Yoga Malmö
ORGANIZER;CN=:info@ashtangayogamalmo.se
SEQUENCE:1
SUMMARY:KURS: Yoga som koncept och praktik: en historisk sammanfattning
TRANSP:OPAQUE
URL:https://www.ashtangayogamalmo.se/kurser-se/tidigare-evenemang/156-kurs-
 yoga-som-koncept-och-praktik-en-historisk-sammanfattning/2023-11-26-11-00
END:VEVENT
END:VCALENDAR
