BEGIN:VCALENDAR
VERSION:2.0
PRODID:-//Ashtangayoga Malmö//NONSGML kigkonsult.se iCalcreator 2.30.10//
CALSCALE:GREGORIAN
METHOD:PUBLISH
UID:b76b637c-9ca6-4007-88a7-5ce808fc98d2
X-WR-CALNAME:iCagenda
X-WR-CALDESC:Event Management Extension for Joomla!
X-WR-RELCALID:3E26604A-50F4-4449-8B3E-E4F4932D05B5
X-WR-TIMEZONE:Europe/Stockholm
BEGIN:VTIMEZONE
TZID:Europe/Stockholm
BEGIN:STANDARD
TZNAME:CET
DTSTART:20221030T030000
TZOFFSETFROM:+0200
TZOFFSETTO:+0100
RDATE:20231029T030000
END:STANDARD
BEGIN:DAYLIGHT
TZNAME:CEST
DTSTART:20220327T020000
TZOFFSETFROM:+0100
TZOFFSETTO:+0200
RDATE:20230326T020000
RDATE:20240331T020000
END:DAYLIGHT
END:VTIMEZONE
BEGIN:VEVENT
UID:ad6c91fa-31e3-4ac0-8b8b-47cbf6e8e45d
DTSTAMP:20260419T161753Z
CATEGORIES:Master Class (se)
CLASS:PUBLIC
DESCRIPTION;ALTREP="CID:<FFFF__=0ABBE548DFE235B58f9e8a93d@coffeebean.com>":
 Söndagen den 5 mars har vi äran att välkomna Lisa Lalér (Yogashala Stockho
 lm) och Jens Bache (Astanga Yoga of Copenhagen) till Ashtanga Yoga Malmö. 
 Lisa kommer att undervisa vår månatliga guidade klassen av första serien o
 ch Jens kommer på följande te&amp\;talk att berätta om sin akademiska fors
 kning vad gäller den moderna yogan och yoga-asana ur ett historiskt perspe
 ktiv. Det är en fantastisk möjlighet för våra yogautövare att träffa och l
 ära av två framstående skandinaviska Ashtangayogalärare.PROGRAM9-10:45 Led
 d klass av första serien på traditionsenligt vis (positioner och vinyasa v
 ägleds med korta instruktioner på Sanskrit) (Lisa)11-12.15 Tea&amp\;Talk: 
 ”Berättelserna bakom den modern yogan – historia eller myt?” (Jens)\nDATUM
 : Söndagen den 5 mars 2023TID: Guidad klass 9.00\, Föreläsning 11.00PRIS o
 ch BOKNING:\n\nvåra nuvarande kortinnehavare använder sina månads/klippsko
 rt för att delta och behöver inte anmäla sig till lektionen i förväg\nexte
 rna/besökande elever kan anmäla sig till guidad klass och/eller följande t
 e&amp\;talk-föreläsning till ett drop-in-pris 200 kr genom vår partner Med
 borgarskolan (klicka på länken)\n\nEvenemanget kommer att ges på engelska 
 och för att få mer information om de båda gästlärarna samt om föredragets 
 innehåll ber vi den som är intresserad att byta till den engelska versione
 n av vår hemsida (klick HÄR)
DTSTART:20230305T080000Z
DTEND:20230305T111500Z
GEO:00;0
LOCATION:Ashtanga Yoga Malmö
ORGANIZER;CN=:info@ashtangayogamalmo.se
SEQUENCE:1
SUMMARY:Ledd klass av första serien samt Tea&Talk med Lisa Lalér och Jens B
 ache
TRANSP:OPAQUE
URL:https://www.ashtangayogamalmo.se/kurser-se/tidigare-evenemang/151-ledd-
 klass-av-forsta-serien-och-tea-talk-med-lisa-laler-och-jens-bache
END:VEVENT
END:VCALENDAR
