BEGIN:VCALENDAR
VERSION:2.0
PRODID:-//Ashtangayoga Malmö//NONSGML kigkonsult.se iCalcreator 2.30.10//
CALSCALE:GREGORIAN
METHOD:PUBLISH
UID:6e4ee95f-f2b9-4a8d-8ddd-d9901f3159de
X-WR-CALNAME:iCagenda
X-WR-CALDESC:Event Management Extension for Joomla!
X-WR-RELCALID:3E26604A-50F4-4449-8B3E-E4F4932D05B5
X-WR-TIMEZONE:Europe/Stockholm
BEGIN:VTIMEZONE
TZID:Europe/Stockholm
BEGIN:STANDARD
TZNAME:CET
DTSTART:20221030T030000
TZOFFSETFROM:+0200
TZOFFSETTO:+0100
RDATE:20231029T030000
END:STANDARD
BEGIN:DAYLIGHT
TZNAME:CEST
DTSTART:20230326T020000
TZOFFSETFROM:+0100
TZOFFSETTO:+0200
RDATE:20240331T020000
END:DAYLIGHT
END:VTIMEZONE
BEGIN:VEVENT
UID:e240bbe0-29e1-4a35-87f8-cee33893c505
DTSTAMP:20260419T161230Z
CATEGORIES:Filosofi/teori
CLASS:PUBLIC
DESCRIPTION;ALTREP="CID:<FFFF__=0ABBE548DFE235B58f9e8a93d@coffeebean.com>":
 Vi är mycket glada att välkomna Lakshmish Bhat\, vår chanting och filosofi
 lärare från Mysore\, Indien\, till Ashtanga Yoga Malmö. Tillsammans med As
 tanga Yoga Köpenhamn\, Yogashala Stockholm och Nico Cooper / Tullia Jack A
 shtanga Yoga är vi värdar för Lakshmish under hans besök i norra Europa. I
  Malmö kommer han att undervisa i en workshop med tre klasser mellan 13-15
  april 2023 som inkluderar chanting\, föreläsning och en traditionell indi
 sk Puja ceremoni. Detta är en unik möjlighet att möta en genuin indisk for
 skare som undervisar direkt från källan till indisk yogafilosofi.\nWorksho
 pen ges på engelska så är du intresserad att delta ber vi dig byta till de
 n engelska versionen av vår hemsida (byt språk i menyn ovan till höger) fö
 r att få information om schemat\, priser och bokning. Har du frågor är du 
 välkommen att höra av dig till oss.
DTSTART:20230413T150000Z
DTEND:20230415T130000Z
GEO:00;0
LOCATION:Ashtanga Yoga Malmö
ORGANIZER;CN=:info@ashtangayogamalmo.se
SEQUENCE:1
SUMMARY:Workshop med Lakshmish Bhat
TRANSP:OPAQUE
URL:https://www.ashtangayogamalmo.se/kurser-se/tidigare-evenemang/149-works
 hop-med-lakshmish-bhat
END:VEVENT
END:VCALENDAR
