BEGIN:VCALENDAR
VERSION:2.0
PRODID:-//Ashtangayoga Malmö//NONSGML kigkonsult.se iCalcreator 2.30.10//
CALSCALE:GREGORIAN
METHOD:PUBLISH
UID:0416731f-c743-4f15-8097-0fb69d78e96c
X-WR-CALNAME:iCagenda
X-WR-CALDESC:Event Management Extension for Joomla!
X-WR-RELCALID:3E26604A-50F4-4449-8B3E-E4F4932D05B5
X-WR-TIMEZONE:Europe/Stockholm
BEGIN:VTIMEZONE
TZID:Europe/Stockholm
BEGIN:STANDARD
TZNAME:CET
DTSTART:20221030T030000
TZOFFSETFROM:+0200
TZOFFSETTO:+0100
RDATE:20231029T030000
END:STANDARD
BEGIN:DAYLIGHT
TZNAME:CEST
DTSTART:20220327T020000
TZOFFSETFROM:+0100
TZOFFSETTO:+0200
RDATE:20230326T020000
RDATE:20240331T020000
END:DAYLIGHT
END:VTIMEZONE
BEGIN:VEVENT
UID:00d439cc-edfe-497e-a6f5-d892429d93a5
DTSTAMP:20260419T161753Z
CATEGORIES:Friday fun (se)
CLASS:PUBLIC
DESCRIPTION;ALTREP="CID:<FFFF__=0ABBE548DFE235B58f9e8a93d@coffeebean.com>":
 Valda fredagskvällar under terminstid anordnar Ashtanga Yoga Malmö en särs
 kild after-work klass kallad Friday-fun. Här yogar vi på annat sätt än i m
 ysorerummet\, utforskar olika yogarelaterade teman och utför asanas på ett
  lekfullt vis. Fokus ligger främst på att fördjupa deltagarnas förståelse 
 av den egna yogapraktiken och ge dem kunskap om olika asanas funktion och 
 grundläggande principer.\nVarje klass har ett särskilt tema som strävar ef
 ter att ge deltagarna inspiration och nya insikter till den fysiska delen 
 av yogautövandet. Temat den 10/3 är ”Ladies night – en yogakväll för kvinn
 or” där vi bjuder in enbart kvinnliga deltagare. Vi genomför en mjukare me
 n ändå lätt dynamisk yogasekvens särskilt utarbetad att passa under tider 
 i den kvinnliga cykeln där kropp och sinne kan kännas tyngre och/eller som
  kan utföras vid full/nymåne när man pausar från ashtangapraktiken. Klasse
 n avslutas med guidad avslappning efterföljt av gemensam fika och diskussi
 on kring frågor som berör kvinnokroppen (och psyket) under olika skeden i 
 livet och i relation till yogautövandet.\nTema 10/3-2023: är ”Ladies night
  – en yogakväll för kvinnor”\nLärare: Isabella Nitschke\nTid:  kl 17-19.30
 \nPris: 200kr\nAnmälan: via vår partner Medborgarskolan (klicka på länken)
 . Sista anmälningsdatum 8:e mars 2023\nFrågor: maila oss\nKlasserna innehå
 ller både lättare och mer avancerade övningar och är öppna för alla nivåer
  av yogautövare utom helt nybörjare. Antalet platser är begränsat\, föranm
 älan krävs och görs via vår partner Medborgarskolan.
DTSTART:20230310T160000Z
DTEND:20230310T183000Z
GEO:00;0
LOCATION:Ashtanga Yoga Malmö
ORGANIZER;CN=:info@ashtangayogamalmo.se
SEQUENCE:1
SUMMARY:FRIDAY FUN (specialklass): ”Ladies night – en yogakväll för kvinnor
 ”
TRANSP:OPAQUE
URL:https://www.ashtangayogamalmo.se/kurser-se/tidigare-evenemang/143-frida
 y-fun-specialklass-ladies-night-en-yogakvall-for-kvinnor
END:VEVENT
END:VCALENDAR
