BEGIN:VCALENDAR
VERSION:2.0
PRODID:-//Ashtangayoga Malmö//NONSGML kigkonsult.se iCalcreator 2.30.10//
CALSCALE:GREGORIAN
METHOD:PUBLISH
UID:81f77392-7281-4ecb-af60-3f41137cc572
X-WR-CALNAME:iCagenda
X-WR-CALDESC:Event Management Extension for Joomla!
X-WR-RELCALID:3E26604A-50F4-4449-8B3E-E4F4932D05B5
X-WR-TIMEZONE:Europe/Stockholm
BEGIN:VTIMEZONE
TZID:Europe/Stockholm
BEGIN:STANDARD
TZNAME:CET
DTSTART:20231029T030000
TZOFFSETFROM:+0200
TZOFFSETTO:+0100
RDATE:20241027T030000
RDATE:20251026T030000
END:STANDARD
BEGIN:DAYLIGHT
TZNAME:CEST
DTSTART:20240331T020000
TZOFFSETFROM:+0100
TZOFFSETTO:+0200
RDATE:20250330T020000
END:DAYLIGHT
END:VTIMEZONE
BEGIN:VEVENT
UID:4d2aaea2-8821-4c85-b8c5-ed9a7ea496c5
DTSTAMP:20260419T175436Z
CATEGORIES:Gästlärare
CLASS:PUBLIC
DESCRIPTION;ALTREP="CID:<FFFF__=0ABBE548DFE235B58f9e8a93d@coffeebean.com>":
 Vi är glada över att välkomna tillbaka Tim Feldmann till vår yoga shala i 
 augusti 2024. Tim besökte oss första gången 2021 och han återvänder nu för
  ytterligare en helgworkshop den 6-8 september 2024. Tim kommer att underv
 isa två morgonklasser i mysore stil och tre eftermiddagsworkshops med särs
 kilt utvalda teman. Det ges även möjlighet att ställa frågor till Tim vid 
 två särskilt avsatta tillfällen. Workshopen börjar på fredagskvällen med e
 tt föredrag om syftet med vår dagliga yogapraktik - vad säger de klassiska
  yogiska texterna om yoga och hur tillämpar man detta i sin egen yogaprakt
 ik för långsiktig nytta? Helgkursen ges på engelska och för att se ett det
 aljerat program samt Tims 'bio' ber vi er byta till den engelska versionen
  av denna sida (klicka på flaggan högst upp till höger).DATUM OCH TID:Fred
 ag 6/9 kl. 17-19.00 - Föreläsning\, 'Vad är yoga i praktiken' + Q&amp\;A?L
 ördag 7/9 och söndag 8/9 kl. 8-11.00 - Morgonklass i mysore stil (två skif
 t beroende på antal deltagare). Efter mysoren på söndagen kl 11 ger Tim en
  extra 30 minuters Q&amp\;ALördag 7/9 kl. 13.30-15.30 och söndag 8/9 kl. 1
 3-15 -  Eftermiddagsworkshop (för tema se engelska sidan)PRISER:Hela works
 hopen: 2800 kr (Fullbokad med väntelista.)Enbart morgon mysore : 600kr/kla
 ss eller 1050kr för både lör+sönBOKNING: per email info@ashtangayogamalmo 
 *Bokningsregler: Bokning är bindande\, ingen avbokning möjlig. Deltagare k
 an ge sin plats till en annan person\, och i händelse av en väntelista går
  platsen till den första personen på listan.
DTSTART:20240906T150000Z
DTEND:20240908T130000Z
GEO:00;0
LOCATION:Ashtanga Yoga Malmö
ORGANIZER;CN=:info@ashtangayogamalmo.se
SEQUENCE:1
SUMMARY:HELGKURS I ASHTANGA YOGA med gästlärare Tim Feldmann - FULLBOKAD
TRANSP:OPAQUE
URL:https://www.ashtangayogamalmo.se/kurser-se/tidigare-evenemang/119-helgk
 urs-i-ashtanga-yoga-med-tim-feldmann
END:VEVENT
END:VCALENDAR
