BEGIN:VCALENDAR
VERSION:2.0
PRODID:-//Ashtangayoga Malmö//NONSGML kigkonsult.se iCalcreator 2.30.10//
CALSCALE:GREGORIAN
METHOD:PUBLISH
UID:83ed02de-88ef-49f5-b211-330ba5844a01
X-WR-CALNAME:iCagenda
X-WR-CALDESC:Event Management Extension for Joomla!
X-WR-RELCALID:3E26604A-50F4-4449-8B3E-E4F4932D05B5
X-WR-TIMEZONE:Europe/Stockholm
BEGIN:VTIMEZONE
TZID:Europe/Stockholm
BEGIN:STANDARD
TZNAME:CET
DTSTART:20251026T030000
TZOFFSETFROM:+0200
TZOFFSETTO:+0100
RDATE:20261025T030000
RDATE:20271031T030000
END:STANDARD
BEGIN:DAYLIGHT
TZNAME:CEST
DTSTART:20260329T020000
TZOFFSETFROM:+0100
TZOFFSETTO:+0200
RDATE:20270328T020000
END:DAYLIGHT
END:VTIMEZONE
BEGIN:VEVENT
UID:cf568ce5-4873-41f4-8a24-ab56b1b7634d
DTSTAMP:20260419T140836Z
CATEGORIES:Donationsklass
CLASS:PUBLIC
DESCRIPTION;ALTREP="CID:<FFFF__=0ABBE548DFE235B58f9e8a93d@coffeebean.com>":
 Att utöva yoga innefattar mer än att bara göra positioner på yogamattan. K
 armayoga eller Seva – som betyder osjälviskt handlande – är också en vikti
 g del. \nInför Internationella yogadagen 2026 anordnar Ashtanga Yoga Malmö
  en särskild ceremoni bestående av 108 solhälsningar i syfte att samla in 
 pengar till organisationen V-Care i Mysore\, Indien. Ritualen blir särskil
 t kraftfull vid full och nymåne och vi gör den därför på morgonen måndagen
  den 15:e juni eftersom nymånen infaller då. Det är också ett härligt sätt
  att komma i gång och få energi inför dagen. \nAtt göra 108 solhälsningar 
 tar ca 50 minuter och det är valfritt om man vill göra alla 108 eller enba
 rt en del. Man kan bjuda in en partner/vän och göra hälften vardera som et
 t team\, ta med sig familjen och dela upp solhälsningarna sinsemellan elle
 r utmana sig själv att göra dem alla. Klassen görs synkroniserat men i tys
 thet med enbart andningen som ledinstrument. Efteråt dricker vi morgonkaff
 e tillsammans.\nAshtanga Yoga Malmö stödjer sedan flera år organisationen 
 V-Care i Mysore\, Indien. V-Care arbetar för social förändring\, stärkande
  av flickor och barns rättigheter samt att ge barn från de kastlösa gruppe
 rna utbildning och en bättre framtid. Du kan läsa mer om V-Care och om kar
 mayoga här:  \nDu kan ge valfri donation (rek. 200kr) via swish 0706536008
 . Pengarna går oavkortat till V-Care. Markera din swish med ”108 solhälsni
 ngar”. Klassen kostar inget utöver din donation men du behöver anmäla dig 
 i förväg.\nFör vem? Alla nivåer är välkomna!  Nybörjare rekommenderas ta p
 auser.\nAnmälan: alla bokningar görs via vår samarbetspartner Medborgarsko
 lan (klicka här)\nDag &amp\; tid: måndag 15/6 kl. 06:45\nPris: Klassen är 
 kostnadsfri förutom din donation (se ovan)\nLedare: Isabella Nitschke\nFrå
 gor:  maila oss
DTSTART:20260615T044500Z
DTEND:20260615T060000Z
GEO:00;0
LOCATION:Ashtanga Yoga Malmö
ORGANIZER;CN=:info@ashtangayogamalmo.se
SEQUENCE:1
SUMMARY:INTERNATIONELLA YOGADAGEN – 108 solhälsningar
TRANSP:OPAQUE
URL:https://www.ashtangayogamalmo.se/kurser-se/kurser-workshops/306-interna
 tionella-yoga-dagen-108-solhaelsningar
END:VEVENT
END:VCALENDAR
