BEGIN:VCALENDAR
VERSION:2.0
PRODID:-//Ashtangayoga Malmö//NONSGML kigkonsult.se iCalcreator 2.30.10//
CALSCALE:GREGORIAN
METHOD:PUBLISH
UID:c3f4306e-f7d0-47fc-9aff-d5a3b5816fa4
X-WR-CALNAME:iCagenda
X-WR-CALDESC:Event Management Extension for Joomla!
X-WR-RELCALID:3E26604A-50F4-4449-8B3E-E4F4932D05B5
X-WR-TIMEZONE:Europe/Stockholm
BEGIN:VTIMEZONE
TZID:Europe/Stockholm
BEGIN:STANDARD
TZNAME:CET
DTSTART:20231029T030000
TZOFFSETFROM:+0200
TZOFFSETTO:+0100
RDATE:20241027T030000
END:STANDARD
BEGIN:DAYLIGHT
TZNAME:CEST
DTSTART:20230326T020000
TZOFFSETFROM:+0100
TZOFFSETTO:+0200
RDATE:20240331T020000
RDATE:20250330T020000
END:DAYLIGHT
END:VTIMEZONE
BEGIN:VEVENT
UID:902a393d-f306-4ec4-b7c3-e62c37138f2b
DTSTAMP:20260419T161357Z
CATEGORIES:Social sammankomst
CLASS:PUBLIC
DESCRIPTION;ALTREP="CID:<FFFF__=0ABBE548DFE235B58f9e8a93d@coffeebean.com>":
 \n\nEfter den ledda klassen söndagen den 10:e december bjuder Ashtanga Yog
 a Malmö in till fest och vår årliga brunch (knytkalas). Tillsammans avslut
 ar vi året (även om det är några veckor kvar på terminen)\, umgås\, äter o
 ch dricker gott. Det blir ett tillfälle för oss lärare att tacka för tiden
  som gått sedan sist och för alla att lära känna varandra bättre utanför y
 ogamattan. Kan man inte komma på klassen före är man såklart välkommen att
  ansluta enbart till brunchen. Detta event är ett mycket uppskattat tillfä
 lle som vi ser fram emot varje år! Familjemedlemmar\, partners\, vänner\, 
 barn är alla också välkomna att ansluta. Ju fler vi blir desto härligare.
 \nVi ber alla att att ta med ett vegetariskt/veganskt bidrag till buffén. 
 Te\, kaffe\, frukt och plantbaserad dryck kommer att finnas på plats så de
 tta behöver ni inte ta med. \nMeddela oss gärna i förväg hur många som kom
 mer genom att skicka ett meddelande till info@ashtangayogamalmo.se\nDatum:
  10/12-2023\nTid: 11-13.00\nVälkomna på fest!\n\n
DTSTART:20231210T100000Z
DTEND:20231210T120000Z
GEO:00;0
LOCATION:Ashtanga Yoga Malmö
ORGANIZER;CN=:info@ashtangayogamalmo.se
SEQUENCE:1
SUMMARY:FEST - årlig brunch/knytkalas (veg.)
TRANSP:OPAQUE
URL:https://www.ashtangayogamalmo.se/kurser-se/kurser-workshops/186-fest-ar
 lig-brunch-knytkalas-veg-2
END:VEVENT
END:VCALENDAR
