BEGIN:VCALENDAR
VERSION:2.0
PRODID:-//Ashtangayoga Malmö//NONSGML kigkonsult.se iCalcreator 2.30.10//
CALSCALE:GREGORIAN
METHOD:PUBLISH
UID:30d8f353-050d-4158-83d6-99a8f6c11de9
X-WR-CALNAME:iCagenda
X-WR-CALDESC:Event Management Extension for Joomla!
X-WR-RELCALID:3E26604A-50F4-4449-8B3E-E4F4932D05B5
X-WR-TIMEZONE:Europe/Stockholm
BEGIN:VTIMEZONE
TZID:Europe/Stockholm
BEGIN:STANDARD
TZNAME:CET
DTSTART:20221030T030000
TZOFFSETFROM:+0200
TZOFFSETTO:+0100
RDATE:20231029T030000
END:STANDARD
BEGIN:DAYLIGHT
TZNAME:CEST
DTSTART:20220327T020000
TZOFFSETFROM:+0100
TZOFFSETTO:+0200
RDATE:20230326T020000
RDATE:20240331T020000
END:DAYLIGHT
END:VTIMEZONE
BEGIN:VEVENT
UID:5f885d4e-cf8a-4ba9-b7a7-a5631e648b75
DTSTAMP:20260419T162007Z
CATEGORIES:Filosofi/teori
CLASS:PUBLIC
DESCRIPTION;ALTREP="CID:<FFFF__=0ABBE548DFE235B58f9e8a93d@coffeebean.com>":
 Vi är väldigt glada att välkomna Martin Gansten\, docent vid Centrum för T
 eologi och Religionsvetenskap vid Lunds Universitet\, som föreläsare på te
 a&amp\;talk den 29/1-2023. Temat för föreläsningen är 'Sanskrit och yoga u
 r ett historiskt perspektiv'. Deltagarna får en introduktion till det klas
 siska språket Sanskrit som flertalet viktiga yogatexter är skrivet på. Mar
 tin förklarar varför kunskap i språket är av intresse för den som utövar y
 oga och varför det är viktigt för utvecklingen av vår dagliga praktik. För
 eläsningen är interaktiv där deltagarna får lära sig grundläggande kunskap
 er i uttal och skrift.\nFöreläsningen ges på svenska och är utan extra kos
 tnad för de som deltar med sina medlems/klippkort i den guidade klassen av
  ashtangayogans första serie tidigare samma morgon. Man kan delta enbart i
  föreläsningen om man inte kan/vill komma till den guidade klassen. Ingen 
 föranmälan krävs för nuvarande kortinnehavare.\nUtomstående som önskar del
 ta i föreläsningen betalar drop-in pris 175kr (du anmäler dig då och betal
 ar i förväg via vår partner Medborgarskolan här). Har du frågor vänligen k
 ontakta oss.\nOM MARTIN\nMartin började lära sig Sanskrit på egen hand vid
  tretton års ålder 1982. Till sin hjälp hade han Michael Coulsons primer o
 ch Whitneys grammatik. Hans intresse för indiska tankeformer och religion 
 ledde så småningom till studier i indologi och sanskrit vid Stockholms uni
 versitet (1994–96) följt av religionshistoria vid Lunds universitet (MA 19
 98). Numera både skriver och talar han Sanskrit flytande och bedriver kont
 inuerliga studier i  språk som pali\, medeltida latin och koinegrekiska.\n
 Martins doktorsavhandling (2003) kombinerade området för indiska religione
 r med astrologi i en studie av sydindisk nāḍi-spådom\, delvis baserad på e
 tnografiska metoder men främst på sanskrittexter som har sitt ursprung i K
 erala och dateras till 1700- och 1800-talen. Han är sedan 2010 docent i re
 ligionshistoria i Lund och bedriver fortsatt forskning inom två huvudområd
 en: Indiens inhemska religioner – i synnerhet klassisk och modern hinduism
  – samt den horoskopiska astrologins framväxt och interkulturella spridnin
 g.\nUtöver undervisning vid  Lunds Universitet har Martin även verkat vid 
 Stockholms och Linnéuniversiteten\, samt undervisat Indologi och Sanskrit 
 vid Köpenhamns Univeristet. Han har utkommit med flera publikationer och b
 land annat översatt den indiska texten Bhagavad Gita från Sanskrit till sv
 enska (2001) och även den första direktöversättningen av Upanishaderna til
 l svenska (2005) tillsammans med Måns Broo.\nLäs gärna mer om martin på ha
 ns hemsida: https://academic.martingansten.com/about/
DTSTART:20230129T100000Z
DTEND:20230129T110000Z
GEO:00;0
LOCATION:Ashtanga Yoga Malmö
ORGANIZER;CN=:info@ashtangayogamalmo.se
SEQUENCE:1
SUMMARY:Tea&Talk:  'Sanskrit och yoga ur ett historiskt perspektiv' - förel
 äsning av Martin Gansten
TRANSP:OPAQUE
URL:https://www.ashtangayogamalmo.se/kurser-se/kurser-workshops/141-tea-tal
 k-sanskrit-och-yoga-ur-ett-historiskt-perspektiv-forelasning-av-martin-gan
 sten
END:VEVENT
END:VCALENDAR
