BEGIN:VCALENDAR
VERSION:2.0
PRODID:-//Ashtangayoga Malmö//NONSGML kigkonsult.se iCalcreator 2.30.10//
CALSCALE:GREGORIAN
METHOD:PUBLISH
UID:9d2dfaa4-b3db-4fbb-a5d2-554dfbbac79d
X-WR-CALNAME:iCagenda
X-WR-CALDESC:Event Management Extension for Joomla!
X-WR-RELCALID:3E26604A-50F4-4449-8B3E-E4F4932D05B5
X-WR-TIMEZONE:Europe/Stockholm
BEGIN:VTIMEZONE
TZID:Europe/Stockholm
BEGIN:STANDARD
TZNAME:CET
DTSTART:20241027T030000
TZOFFSETFROM:+0200
TZOFFSETTO:+0100
RDATE:20251026T030000
RDATE:20261025T030000
END:STANDARD
BEGIN:DAYLIGHT
TZNAME:CEST
DTSTART:20250330T020000
TZOFFSETFROM:+0100
TZOFFSETTO:+0200
RDATE:20260329T020000
END:DAYLIGHT
END:VTIMEZONE
BEGIN:VEVENT
UID:9ec7303f-3a44-4bde-8e81-f08420887ef9
DTSTAMP:20260420T080938Z
CATEGORIES:Philosophy/theory
CLASS:PUBLIC
DESCRIPTION;ALTREP="CID:<FFFF__=0ABBE548DFE235B58f9e8a93d@coffeebean.com>":
 We are delighted to welcome back Vidwan Lakshmish Bhat\, our Indian chanti
 ng and philosophy teacher from Mysore. Laksmish last visited our shala in 
 2023 and he’ll return to teach in Malmö on 16-17th May 2025. The workshop 
 is organized in co-operation with Astanga Yoga Copenhagen and Yogashala St
 ockholm.\nJoin us for an inspiring two-day workshop where Lakshmish shares
  his expertise of yogic chanting\, its meaning and philosophy\, including 
 japa practice (mantra repetition). The workshop will also explore kriyas –
  yogic purification techniques – and their effects on the body and mind.  
 On the Friday evening Lakshmish will hold a special puja\, a memorial cere
 mony\, in honour of our late teacher Sri R Sharath Jois.\nEveryone is welc
 ome\, regardless of prior experience. Come and deepen your knowledge of th
 e practice of Yoga directly from the source in Mysore. \nDETAILED PROGRAMM
 E\nFriday 16th May \n17.00 - 18:45 Japa - chanting and recitation of selec
 ted mantras.   \n19.00 - 20.00 Special Puja in honour of our late teacher 
 Paramaguru Sri R Sharath Jois\nSaturday 17th May \n09:00-12:00 Yoga philos
 ophy – Introduction to kriyas: their purpose and benefits. A moral story -
  an inspiring philosophical tale\; followed by Q&amp\;A (including a discu
 ssion on the previous day’s session).  \nPRICE:\nFull workshop: 700 SEK \n
 1-day: 400 SEK\nBOOKINGS &amp\; QUESTIONS: \nPlease email us: info@ashtang
 ayogamalmo.se\n*Booking rules: booking is binding and non-refundable. Book
 ed place can be transferred to another participant or person on a waiting 
 list if one exists.\nABOUT LAKSHMISH\nLakshmish is the teacher of Sanskrit
 \, Chanting and Yoga philosophy at the Sharath Yoga Center (SYC) in Mysore
 . He was born in 1978 into a Brahmin family in the small village Madgeri\,
  nearby Gokarna (Shivas holy place) in the north of Karnataka\, India. He 
 studied Sanskrit by the traditional method in his village and in the year 
 2000 he came to the Mysore Maharaja Sanskrit College for further studies o
 f Advaita Vedanta. Lakshmish further obtained the Vidwan title in the name
 d subject and subsequently received a master’s degree from Mysore Universi
 ty in 2006. In 2006 he married Ranjita. Together they have a son\, Gautama
  who is now 12 years old.
DTSTART:20250516T150000Z
DTEND:20250517T100000Z
GEO:00;0
LOCATION:Ashtanga Yoga Malmö
ORGANIZER;CN=:info@ashtangayogamalmo.se
SEQUENCE:1
SUMMARY:Workshop with Vidwan Lakshmish Bhat from Mysore
TRANSP:OPAQUE
URL:https://www.ashtangayogamalmo.se/en/courses/past-events/267-workshop-wi
 th-vidwan-lakshmish-bhat-from-mysore-india
END:VEVENT
END:VCALENDAR
