BEGIN:VCALENDAR
VERSION:2.0
PRODID:-//Ashtangayoga Malmö//NONSGML kigkonsult.se iCalcreator 2.30.10//
CALSCALE:GREGORIAN
METHOD:PUBLISH
UID:253bca30-c497-4612-b819-e2a0f0619982
X-WR-CALNAME:iCagenda
X-WR-CALDESC:Event Management Extension for Joomla!
X-WR-RELCALID:3E26604A-50F4-4449-8B3E-E4F4932D05B5
X-WR-TIMEZONE:Europe/Stockholm
BEGIN:VTIMEZONE
TZID:Europe/Stockholm
BEGIN:STANDARD
TZNAME:CET
DTSTART:20231029T030000
TZOFFSETFROM:+0200
TZOFFSETTO:+0100
RDATE:20241027T030000
END:STANDARD
BEGIN:DAYLIGHT
TZNAME:CEST
DTSTART:20240331T020000
TZOFFSETFROM:+0100
TZOFFSETTO:+0200
RDATE:20250330T020000
END:DAYLIGHT
END:VTIMEZONE
BEGIN:VEVENT
UID:203b12c4-c002-4b5e-bdca-283268751650
DTSTAMP:20260419T132057Z
CATEGORIES:Relaxation
CLASS:PUBLIC
DESCRIPTION;ALTREP="CID:<FFFF__=0ABBE548DFE235B58f9e8a93d@coffeebean.com>":
 Yin yoga is a calm and relaxing type of yoga where you give yourself time 
 to 'just be'. We let go of all performance\, expectation or the impulse to
  'do' something and practice being in the moment and to feel the body.\nIn
  yin yoga\, each position is entered with the assistance of gravity and to
 gether with a focus on breathing\; we help our muscles to relax. We stay i
 n each position for about 3-5 minutes: in this way\, the connective tissue
 /fascia that holds all the body's organs and muscles together is stimulate
 d and stretched.\nYin yoga is a good complement to other physical activity
  such as running or more dynamic yoga styles\, and is particularly suitabl
 e if you feel stiff. Everyone is welcome regardless of experience!\nClass 
 structure:\n\nGrounding on the mat - light movements to sense the body.\nY
 in yoga positions\nBreathing exercises/Meditation/Silence.\n\nTime: Thursd
 ays at 17:30 – 18:45 starting on 4/4-2024 a total of 8 sessions (with a br
 eak on Ascension Day)\nPrice: 1250 SEK (existing members can use their mem
 bership/clip card to attend the course or drop-in\, but prior registration
  via Medborgarskolan is required)\nTeacher: Helena Frentzell\nRegistration
 : all bookings and payment are made via our partner Medborgarskolan (follo
 w this link)\nQuestions: please email us
DTSTART:20240404T153000Z
DTEND:20240404T164500Z
GEO:00;0
LOCATION:Ashtanga Yoga Malmö
ORGANIZER;CN=:info@ashtangayogamalmo.se
SEQUENCE:1
SUMMARY:YIN YOGA (8 sessions)
TRANSP:OPAQUE
URL:https://www.ashtangayogamalmo.se/en/courses/past-events/206-yin-yoga-8-
 sessions-2
END:VEVENT
END:VCALENDAR
