BEGIN:VCALENDAR
VERSION:2.0
PRODID:-//Ashtangayoga Malmö//NONSGML kigkonsult.se iCalcreator 2.30.10//
CALSCALE:GREGORIAN
METHOD:PUBLISH
UID:d68c5ca6-d9ff-4e4d-87bc-6450bd4b6a4f
X-WR-CALNAME:iCagenda
X-WR-CALDESC:Event Management Extension for Joomla!
X-WR-RELCALID:3E26604A-50F4-4449-8B3E-E4F4932D05B5
X-WR-TIMEZONE:Europe/Stockholm
BEGIN:VTIMEZONE
TZID:Europe/Stockholm
BEGIN:STANDARD
TZNAME:CET
DTSTART:20211031T030000
TZOFFSETFROM:+0200
TZOFFSETTO:+0100
RDATE:20221030T030000
END:STANDARD
BEGIN:DAYLIGHT
TZNAME:CEST
DTSTART:20210328T020000
TZOFFSETFROM:+0100
TZOFFSETTO:+0200
RDATE:20220327T020000
RDATE:20230326T020000
END:DAYLIGHT
END:VTIMEZONE
BEGIN:VEVENT
UID:ee9f5111-2675-41fc-a659-cc41a2547e1b
DTSTAMP:20260420T111932Z
CATEGORIES:Guest teacher
CLASS:PUBLIC
DESCRIPTION;ALTREP="CID:<FFFF__=0ABBE548DFE235B58f9e8a93d@coffeebean.com>":
 We are delighted to welcome Matt Ryan to Ashtanga Yoga Malmö the week betw
 een Christmas and New Year 27-30 Dec 2021. Twice in the past year we've ha
 d to postpone Matt's visit due to the Covid-19 pandemic\, but finally he w
 ill be able to come to our shala to share his long term experience of Asht
 anga yoga and Zen Buddhism with us. Matt will teach at the shala for four 
 days offering both morning Mysore classes and special workshops in Zen med
 itation and Ashtanga yoga. Below is the full programme (scroll further dow
 n to see booking info and prices and to read more about Matt) but first a 
 message from Matt himself:\n'Hej! I do hope you are all good and well. I a
 m super excited to be coming over to Ashtanga Yoga Malmö to teach a four d
 ay workshop in December. I just wanted to say a few words about what to ex
 pect from me as a teacher and the sessions I will lead. I have been teachi
 ng and practising ashtanga yoga for over 22 years now and one of the highe
 st compliments I have had from a student was to be called the hardest work
 ing man in the Mysore room. I pride myself on being available open and hon
 est to every student that comes through the door giving each person 110%. 
 I welcome all levels at the workshop especially complete beginners as the 
 Mysore room is the perfect starting point for a newcomer to Ashtanga. I am
  also super excited to bring Zen Meditation to this workshop. The mind Bod
 y combination of Zazen (Zen meditation ) and ashtanga yoga is absolutely p
 erfect . An old Yogi once told me yoga teachers get the students they dese
 rve and looking at all my student testimonials I feel like I’m doing somet
 hing right. See you on 27 December!'\n DETAILED PROGRAMME\n \n\nMorning My
 sore class 27-30 Dec 7:00-10am (doors open at 06:45) FULLY BOOKED\n\n \n\n
 Introduction to Zen Meditation 27-30 Dec (10:30-11:30) FULLY BOOKED\n\nA 4
 -day introduction to Zazen meditation\; “It's so easy to get lost in the p
 hysical aesthetic of Ashtanga that the more subtle internal practice gets 
 lost in the noise. Using Zazen has helped Matt quieten the crazy mind and 
 embrace the quality of a true practice.  Through Zazen Matt discovered how
  the mind component of Ashtanga Yoga is integral to the whole foundation o
 f the practice and to the complete understanding of the external physical 
 form.”\n \n\nEvening workshops27-29 Dec  (17:15-19:15) ONLY A FEW SPACES L
 EFT\n\n \nMon 27/12: The Vinyasa of Ashtanga Yoga \nThe practice of Ashtan
 ga Yoga is built around the key concept of Vinyasa - or 'moving breathing 
 system'. Matt will be looking at the integral components of the Vinyasa sy
 stem\, breaking down the composite parts to give students a deeper underst
 anding of its practice which in turn will allow for a more focused interna
 l experience of Ashtanga Yoga. Matt will be using methods from other mind 
 &amp\; body practices including Pranayama &amp\; Tai Chi to highlight the 
 mechanics of Vinyasa\, he will also be adding in his usual doses of wit an
 d wisdom to make the workshop both fun and challenging.\nTues 28/12: 10 % 
 further for Mind and Body \nUsing the Ashtanga Yoga Primary series as a ba
 se\, Matt will be talking through each posture with tips and advice on how
  by making simple mind and body adjustments students can find deeper level
 s of flexibility and concentration. Also by employing the methods taught i
 n this session students can learn how to more mindful of their practice an
 d this in turn will help to prevent injury through learning how not to for
 ce or over stretch the body in postures. This is a perfect workshop for bo
 th new comers and seasoned pros to Ashtanga.\nWed 29/12: Second Series for
  EVERYONE \nCombining back bending\, twists and hip openers Ashtanga Yoga’
 s Intermediate sequence (aka Nadi Shodhana) works to cleanse the nervous s
 ystem and this introduction is for both inquisitive beginners and seasoned
  professionals. Techniques suggestions and ideas will be presented creatin
 g an accessible and fun gateway to the sequence.\n \nBOOKING INFO\nMysore 
 class: Matt teaches the regular Mysore class at Ashtanga Yoga Malmö. Class
 es are drop-in and current card holders may attend with their practice car
 ds. Visitors to the shala pay drop-in price and need to register at latest
  48hrs in advance to attend.  \nZen Meditation intro and Ashtanga Workshop
 s:  Bookings that include the full Zen Meditation course (4days) and all e
 vening workshops (3 days) receive a discount.\nPrice:\n\nMysore class: cur
 rent members may use their practice cards\, drop-in 175 SEK\n\n \n\nZen me
 ditation course: 1100 SEK (full course) OR Intro (27/12) + single days 350
 SEK+ 300SEK per additional class\n\n \n\nEvening workshops: 1200SEK (all 3
  evening workshops) OR  single workshop 450SEK\n\n \n\nFull Zen Meditation
  course and evening workshops: 2100SEK\n\n \nBookings* (incl Mysore class 
 reservations): email to info@ashtangayogamalmo.se\n*Booking rules: all boo
 kings are binding and non refundable. You may hand over your spot to anoth
 er participant on the waiting list. We reserve the right to make changes t
 o the programme due to unforeseeable events.\n \nABOUT MATT\nMatt Ryan\, o
 riginally from Manchester\, has been practicing and teaching Ashtanga Yoga
  for over 20 years. In addition to having his own shala in Manchester for 
 many years he has taught yoga around the world\, most lately in the Venice
  Beach area of Los Angeles\, California. He returned to the UK last year a
 nd is now settling in Ramsgate. Matt is married to Lina from Lund\, and th
 us has links to Sweden which he frequently visits to see family\n10 years 
 ago Matt started studying Zen Buddhism which foundations lie in the daily 
 sitting practice of Zazen. When he added Zazen to his Ashtanga practice he
  noticed an immediate effect resulting in a steadier more focused mind whi
 lst moving through the asana sequences – the end result being a sense of i
 n the moment presence coupled with a strong flexible mind &amp\; body.\nMa
 tt\, although he has studied the Ashtanga practice in Mysore\, prefers to 
 keep his teachings completely secular. For more information about Matt vis
 it his website https://mattryan.yoga/about/
DTSTART:20211227T063100Z
DTEND:20211230T103000Z
GEO:00;0
LOCATION:Ashtanga Yoga Malmö
ORGANIZER;CN=:info@ashtangayogamalmo.se
SEQUENCE:1
SUMMARY:POST-CHRISTMAS YOGA WORKSHOP with MATT RYAN (4 days)
TRANSP:OPAQUE
URL:https://www.ashtangayogamalmo.se/en/courses/courses-workshops-en/29-box
 ing-week-yoga-workshop-with-matt-ryan
END:VEVENT
END:VCALENDAR
