BEGIN:VCALENDAR
VERSION:2.0
PRODID:-//Ashtangayoga Malmö//NONSGML kigkonsult.se iCalcreator 2.30.10//
CALSCALE:GREGORIAN
METHOD:PUBLISH
UID:db6649ad-000f-48d4-99f7-3cadcb98407b
X-WR-CALNAME:iCagenda
X-WR-CALDESC:Event Management Extension for Joomla!
X-WR-RELCALID:3E26604A-50F4-4449-8B3E-E4F4932D05B5
X-WR-TIMEZONE:Europe/Stockholm
BEGIN:VTIMEZONE
TZID:Europe/Stockholm
BEGIN:STANDARD
TZNAME:CET
DTSTART:20241027T030000
TZOFFSETFROM:+0200
TZOFFSETTO:+0100
RDATE:20251026T030000
RDATE:20261025T030000
END:STANDARD
BEGIN:DAYLIGHT
TZNAME:CEST
DTSTART:20250330T020000
TZOFFSETFROM:+0100
TZOFFSETTO:+0200
RDATE:20260329T020000
END:DAYLIGHT
END:VTIMEZONE
BEGIN:VEVENT
UID:87ee0c07-f9d1-4f09-9948-5e6f4a7ba79c
DTSTAMP:20260423T093019Z
CATEGORIES:Free trial
CLASS:PUBLIC
DESCRIPTION;ALTREP="CID:<FFFF__=0ABBE548DFE235B58f9e8a93d@coffeebean.com>":
 Come and try Ashtanga yoga – Yin yoga - Yoga for stress reduction\, and fi
 nd out more about how you can start to practice and introduce yoga into yo
 ur life. Welcome to meet some of our teachers and get the answers to your 
 questions about yoga - all in a relaxed and pleasant environment. Doors ar
 e open 11:15-14:30. There will be coffee\, tea and refreshments. Please fe
 el free to bring a friend! Existing members are welcome to bring friends a
 nd family for fika and to kick off the autumn semester!\nSpecial offer: Si
 gn up for one of our autumn courses and get a 10% discount\, or buy one of
  our practice cards and get 10% off the price. *offer only valid for regis
 trations and purchases done in person on the day of the open house. \nOur 
 trial classes during the day:\n11.15 Intro to Ashtanga yoga\, 45 min (Kati
 e&amp\;Viktor)\n12.00 Q&amp\;A with a cup of tea\, 45 min (Isabella\, Hele
 na\, Katie\, Viktor)\n12.45 Yoga for stress reduction\, 45 min (Isabella)
 \n13.45 Yin yoga\, 45 min (Helena)\nPrice: free of charge but you need to 
 book to secure your spot (limited places)\nBooking: all registrations for 
 the classes are done through our partner Medborgarskolan (click here). Wri
 te in the message box when registering which class(es) you want to try.\nO
 uestions? please email us at info@ashtangayogamalmo.se 
DTSTART:20250831T091500Z
DTEND:20250831T123000Z
GEO:00;0
LOCATION:Ashtanga Yoga Malmö
ORGANIZER;CN=:info@ashtangayogamalmo.se
SEQUENCE:1
SUMMARY:OPEN HOUSE & trial classes
TRANSP:OPAQUE
URL:https://www.ashtangayogamalmo.se/en/courses/courses-workshops-en/277-op
 en-house-trial-classes
END:VEVENT
END:VCALENDAR
