BEGIN:VCALENDAR
VERSION:2.0
PRODID:-//Ashtangayoga Malmö//NONSGML kigkonsult.se iCalcreator 2.30.10//
CALSCALE:GREGORIAN
METHOD:PUBLISH
UID:514b9581-6b50-4dec-ba09-e15439c048da
X-WR-CALNAME:iCagenda
X-WR-CALDESC:Event Management Extension for Joomla!
X-WR-RELCALID:3E26604A-50F4-4449-8B3E-E4F4932D05B5
X-WR-TIMEZONE:Europe/Stockholm
BEGIN:VTIMEZONE
TZID:Europe/Stockholm
BEGIN:STANDARD
TZNAME:CET
DTSTART:20241027T030000
TZOFFSETFROM:+0200
TZOFFSETTO:+0100
RDATE:20251026T030000
RDATE:20261025T030000
END:STANDARD
BEGIN:DAYLIGHT
TZNAME:CEST
DTSTART:20250330T020000
TZOFFSETFROM:+0100
TZOFFSETTO:+0200
RDATE:20260329T020000
END:DAYLIGHT
END:VTIMEZONE
BEGIN:VEVENT
UID:6685b2cb-de91-435d-acec-56cce4687f20
DTSTAMP:20260422T085033Z
CATEGORIES:Immersion
CLASS:PUBLIC
DESCRIPTION;ALTREP="CID:<FFFF__=0ABBE548DFE235B58f9e8a93d@coffeebean.com>":
 The class is part of a 'mini-immersion' that takes place on four occasions
  during the spring of 2025 (Sundays after the Mysore class). Participants 
 get the chance to dive deeper into the importance of our breath through th
 e exploration of various breathing exercises/pranayama and mantra chanting
 .\nOn each occasion\, we also study selected parts of the text 'Yoga Sutra
 ' by Patanjali. We learn to recite the sutras\, discuss their meaning and 
 relevance to the practice of yoga and how we can relate to yoga philosophy
  and adapt it in our everyday life.\nThe classes are open to all levels of
  yoga practitioners but it is beneficial to have previous yoga experience.
  You can participate in individual classes\, however participation on all 
 occasions will allow for the greatest understanding and retention of the c
 ourse.\nDate and time: Sunday 2/2\, 30/3\, 27/4\, 25/5 at 11.30-13.00\nTea
 cher: Isabella Nitschke\nPrice: SEK 185 per session (clip cards can be use
 d)\nBooking: via our partner Medborgarskolan. The number of places is limi
 ted.\nSession 1 - 2 February - book here\nSession 2 - 30 March - book here
 \nSession 3 - 27 April - book here\nSession 4 - 25 May - book here\nQuesti
 ons: Contact us info@ashtangayogamalmo.se 
DTSTART:20250427T093000Z
DTEND:20250427T093000Z
GEO:00;0
LOCATION:Ashtanga Yoga Malmö
ORGANIZER;CN=:info@ashtangayogamalmo.se
SEQUENCE:1
SUMMARY:Pranayama\, chanting & yoga philosophy (4 sessions)
TRANSP:OPAQUE
URL:https://www.ashtangayogamalmo.se/en/courses/courses-workshops-en/264-pr
 anayama-chanting-yoga-philosophy-4-sessions/2025-04-27-11-30
END:VEVENT
END:VCALENDAR
