BEGIN:VCALENDAR
VERSION:2.0
PRODID:-//Ashtangayoga Malmö//NONSGML kigkonsult.se iCalcreator 2.30.10//
CALSCALE:GREGORIAN
METHOD:PUBLISH
UID:e7731711-a7fd-43d1-bc4a-0cc5e754913f
X-WR-CALNAME:iCagenda
X-WR-CALDESC:Event Management Extension for Joomla!
X-WR-RELCALID:3E26604A-50F4-4449-8B3E-E4F4932D05B5
X-WR-TIMEZONE:Europe/Stockholm
BEGIN:VTIMEZONE
TZID:Europe/Stockholm
BEGIN:STANDARD
TZNAME:CET
DTSTART:20241027T030000
TZOFFSETFROM:+0200
TZOFFSETTO:+0100
RDATE:20251026T030000
END:STANDARD
BEGIN:DAYLIGHT
TZNAME:CEST
DTSTART:20240331T020000
TZOFFSETFROM:+0100
TZOFFSETTO:+0200
RDATE:20250330T020000
RDATE:20260329T020000
END:DAYLIGHT
END:VTIMEZONE
BEGIN:VEVENT
UID:225e9f79-965b-41ab-84f6-53bb0396e9ea
DTSTAMP:20260423T085300Z
CATEGORIES:Fundraiser
CLASS:PUBLIC
DESCRIPTION;ALTREP="CID:<FFFF__=0ABBE548DFE235B58f9e8a93d@coffeebean.com>":
 Practicing yoga involves more than just doing postures on the yoga mat. Ka
 rma yoga or Seva – which means selfless action – is also an important part
 .\nDoing 108 sun salutations has a special meaning and is often performed 
 as a ceremony. The ritual becomes especially powerful at the full moon. We
  do it as a donation-based charity event where we raise money for the orga
 nization V-Care in Mysore\, India.\n108 sun salutations take about 50 minu
 tes to complete\, but it is optional if you want to do all 108 or just a s
 election. You can invite a partner/friend and do half each as a team\, bri
 ng the family and split the sun salutations among you or challenge yoursel
 f to do them all. The class is done in silence with the breath as the guid
 ing instrument. Afterwards we have tea  and “fika” together.\nAshtanga Yog
 a Malmö has been supporting the organisation V-Care in Mysore\, India for 
 several years together with Yogashala Stockholm. V-Care works for social c
 hange\, strengthening the rights of girls and children\, and giving childr
 en from the casteless groups education and a better future. You can read m
 ore about V-Care and about Seva here.\nDate and time: Friday 15/11 at 17.3
 0\nTeacher: Isabella Nitschke\nPrice: Donation (suggested SEK 200) in cash
  on site or via swish 0706536008. The money goes directly to V-Care. Mark 
 your swish with 108 sun salutations. The class is free of charge apart fro
 m your donation.\nRegistration: done via our partner Medborgarskolan (clic
 k here)\nQuestions? Email us
DTSTART:20241115T163000Z
DTEND:20241115T174500Z
GEO:00;0
LOCATION:Ashtanga Yoga Malmö
ORGANIZER;CN=:info@ashtangayogamalmo.se
SEQUENCE:1
SUMMARY:108 Sun salutations
TRANSP:OPAQUE
URL:https://www.ashtangayogamalmo.se/en/courses/courses-workshops-en/244-10
 8-sun-salutations
END:VEVENT
END:VCALENDAR
