BEGIN:VCALENDAR
VERSION:2.0
PRODID:-//Ashtangayoga Malmö//NONSGML kigkonsult.se iCalcreator 2.30.10//
CALSCALE:GREGORIAN
METHOD:PUBLISH
UID:6465f591-0dbc-4cd8-9629-b5d9588ac5de
X-WR-CALNAME:iCagenda
X-WR-CALDESC:Event Management Extension for Joomla!
X-WR-RELCALID:3E26604A-50F4-4449-8B3E-E4F4932D05B5
X-WR-TIMEZONE:Europe/Stockholm
BEGIN:VTIMEZONE
TZID:Europe/Stockholm
BEGIN:STANDARD
TZNAME:CET
DTSTART:20221030T030000
TZOFFSETFROM:+0200
TZOFFSETTO:+0100
RDATE:20231029T030000
END:STANDARD
BEGIN:DAYLIGHT
TZNAME:CEST
DTSTART:20220327T020000
TZOFFSETFROM:+0100
TZOFFSETTO:+0200
RDATE:20230326T020000
RDATE:20240331T020000
END:DAYLIGHT
END:VTIMEZONE
BEGIN:VEVENT
UID:8f15e36d-ea60-47f9-98da-c2db1b24bb74
DTSTAMP:20260422T115620Z
CATEGORIES:Master Class (en)
CLASS:PUBLIC
DESCRIPTION;ALTREP="CID:<FFFF__=0ABBE548DFE235B58f9e8a93d@coffeebean.com>":
 On Sunday 5 March we have the honour of welcoming Lisa Lalér (Yogashala St
 ockholm) and Jens Bache (Astanga Yoga of Copenhagen) to Ashtanga Yoga Malm
 ö. Lisa will teach the regular guided primary series class in the morning 
 and Jens will on the following tea&amp\;talk speak about his academic rese
 arch on the histories of modern yoga and yoga-asana. It’s a great opportun
 ity for practitioners to meet and learn from two prominent Scandinavian As
 htanga yoga teachers.\n PROGRAMME\n9-10:45 Led primary series class tradit
 ionally guided by calling asana and vinyasa in Sanskrit. (Lisa)\n11-12.15 
 Tea&amp\;Talk: “The Stories of Modern Yoga - History or Myth?' (Jens)\nJen
 s Bache\, has during his studies at Copenhagen University\, researched the
  story that over the last decade has been popularized in the West claiming
  that Modern Postural Yoga\, including Ashtanga yoga\, is built upon Scand
 inavian gymnastics. This Sunday he will share the major findings in his an
 alysis of how the stories of Yoga in India and in the West are told in Cul
 tural conflicting views.\n'In the West\, yoga of today is practiced with a
  strong focus on the physical exercises\; whilst in India yoga is generall
 y understood to be a mainstream ancient spiritual philosophy.  This is at 
 the core of a rigorous ongoing debate of historical arguments about what y
 oga\, its practices and origins really are. Arguments with implied asserti
 ons that form fundamental presumptions in which there appears to be an inc
 ompatibility between a fundamental Indian belief in the eternal truth in c
 omparison with Western faith with its reality of documented facts.'\nJens 
 will present the cultural differences in the understanding of time\, the d
 ivergent interpretations as cultural and social narratives\, and how they 
 can be understood as history\, myth\, and legend.\nAn abstract and the ful
 l thesis is available on: https://ku-dk.academia.edu/JBache.\nJens first p
 resented his findings on January 14th\, 2022 at Yogashala Stockholm in an 
 online discussion with Eddie Stern from NYC and a further elaboration on t
 he topic of Yogācārya Krishnamacharya as a cultural hero with Raghu Ananth
 anarayanan from Chennai\, India on February 11th.\nDATE: Sunday 5 March 20
 23\nTIME: Guided class 9am\, Lecture 11am\nPRICE and BOOKINGS:\n\nour curr
 ent card holders use their practice cards to attend and do not need to sig
 n up for class in advance\nexternal/visiting students may sign up for guid
 ed class and/or the following tea&amp\;talk lecture to a drop-in price 200
  SEK through our partner Medborgarskolan (click this link)\n\nABOUT LISA L
 ALÉR Lisa is the main teacher at Yogashala Stockholm which she runs togeth
 er with her sister Lotta Lalér since 2009. Lisa has been teaching since 20
 05 and is an authorised (Level 2) Ashtanga yoga teacher at the Sharath Yog
 a Centre in Mysore\, India. She has also translated Sharath Jois’ books As
 tanga Yoga Anusthana and Ageless into Swedish. Read more about Lisa and Yo
 gashala Stockholm here\nABOUT JENS BACHE Jens Bache is one of the founders
  of the first Astanga yoga school in Denmark: Astanga Yoga Skole København
 \, in the year 2000. In 2013 Jens began studies at Copenhagen University w
 here he subsequently obtained an M.A. in Cross-Cultural Studies and a B.A.
  in Indology specialising in classical India and Indo-Danish cross-cultura
 l relations. Jens is also an authorised (Level 1) Ashtanga yoga teacher at
  the Sharath Yoga Centre in Mysore\, India. Read more about Jens here\n 
DTSTART:20230305T080000Z
DTEND:20230305T111500Z
GEO:00;0
LOCATION:Ashtanga Yoga Malmö
ORGANIZER;CN=:info@ashtangayogamalmo.se
SEQUENCE:1
SUMMARY:Guided primary series and Tea&Talk with Lisa Lalér and Jens Bache
TRANSP:OPAQUE
URL:https://www.ashtangayogamalmo.se/en/courses/courses-workshops-en/150-gu
 ided-primary-series-and-tea-talk-with-lisa-laler-and-jens-bache
END:VEVENT
END:VCALENDAR
