BEGIN:VCALENDAR
VERSION:2.0
PRODID:-//Ashtangayoga Malmö//NONSGML kigkonsult.se iCalcreator 2.30.10//
CALSCALE:GREGORIAN
METHOD:PUBLISH
UID:d4264288-1c6b-4855-bd92-533370e15d9e
X-WR-CALNAME:iCagenda
X-WR-CALDESC:Event Management Extension for Joomla!
X-WR-RELCALID:3E26604A-50F4-4449-8B3E-E4F4932D05B5
X-WR-TIMEZONE:Europe/Stockholm
BEGIN:VTIMEZONE
TZID:Europe/Stockholm
BEGIN:STANDARD
TZNAME:CET
DTSTART:20221030T030000
TZOFFSETFROM:+0200
TZOFFSETTO:+0100
RDATE:20231029T030000
END:STANDARD
BEGIN:DAYLIGHT
TZNAME:CEST
DTSTART:20230326T020000
TZOFFSETFROM:+0100
TZOFFSETTO:+0200
RDATE:20240331T020000
END:DAYLIGHT
END:VTIMEZONE
BEGIN:VEVENT
UID:89a31ac0-5b34-45ff-b7bb-d472d9e3f5fc
DTSTAMP:20260422T084251Z
CATEGORIES:Philosophy/theory
CLASS:PUBLIC
DESCRIPTION;ALTREP="CID:<FFFF__=0ABBE548DFE235B58f9e8a93d@coffeebean.com>":
 We are very honoured to welcome Lakshmish Bhat\, our chanting and philosop
 hy teacher from Mysore\, India\, to Ashtanga Yoga Malmö. Together with Ast
 anga Yoga Copenhagen\, Yogashala Stockholm and Nico Cooper /Tullia Jack As
 htanga Yoga\, we host Lakshmish during his visit to northern Europe. In Ma
 lmö he will teach a workshop of three classes between 13-15 April 2023 inc
 luding chanting\, lectures and traditional Puja\, ceremony. This is a uniq
 ue opportunity to meet a genuine Indian scholar teaching directly from the
  source of Indian yoga philosophy.\nLakshmish is the teacher of Sanskrit\,
  Chanting and Yoga philosophy at the Sharath Yoga Center (SYC) in Mysore w
 here he also conducts daily traditional Brahmin pooja rituals. He was born
  in 1978 into a Brahmin family in the small village Madgeri\, nearby Gokar
 na (Shivas holy place) in the north of Karnataka\, India. He studied Sansk
 rit by the traditional method in his village and in the year 2000 he came 
 to the Mysore Maharaja Sanskrit College for further studies of Advaita Ved
 anta. Lakshmish further obtained the Vidwan title in the named subject and
  subsequently received a master’s degree from Mysore University in 2006. I
 n 2006 he married Ranjita. Together they have a son\, Gautama who is now 1
 0 years old.\n \nPROGRAMME: \nThursday April 13 at 5pm – 7pm \n\nChanting 
 of the Shanti Mantras and the Ashtanga Yoga Mantra.\nIntroduction to the p
 hilosophy of the Hatha Yoga Pradipika and Yoga Sutra according to the Indi
 an tradition.\n\nFriday April 14 at 5pm – 8pm \n\nLakshmish’s history\, fa
 mily tradition\, Vedic studies in Mysore and connection to the Jois’ famil
 y\nBasic chanting and explanation of the meaning of mantra\, plus the hist
 ory of the Ashtanga Yoga mantra.\nPuja\, traditional Brahmin ceremony\n\nS
 aturday April 15 at 12pm-3pm\n\nChanting of the Shanti Mantras\, the Ashta
 nga Yoga Mantra\, asana names and Sanskrit numbers.\nIntroduction to the p
 hilosophy of the Hatha Yoga Pradipika and Yoga Sutra according to the Indi
 an tradition.\n\nPRICE:\nFull workshop 500 SEK\nSingle day 200 SEK\nBOOKIN
 G is made to info@ashtangayogamalmo.se\n*Booking rules: booking is binding
  and non-refundable. Booked place can be transferred to another participan
 t or person on a waiting list if one exists.\nQUESTIONS: please contact us
 \n 
DTSTART:20230413T150000Z
DTEND:20230415T130000Z
GEO:00;0
LOCATION:Ashtanga Yoga Malmö
ORGANIZER;CN=:info@ashtangayogamalmo.se
SEQUENCE:1
SUMMARY:Workshop with Lakshmish Bhat
TRANSP:OPAQUE
URL:https://www.ashtangayogamalmo.se/en/courses/courses-workshops-en/148-wo
 rkshop-with-lakshmish-bhat
END:VEVENT
END:VCALENDAR
