BEGIN:VCALENDAR
VERSION:2.0
PRODID:-//Ashtangayoga Malmö//NONSGML kigkonsult.se iCalcreator 2.30.10//
CALSCALE:GREGORIAN
METHOD:PUBLISH
UID:2c238675-9ae2-4cbc-87a2-9547b86c1b8e
X-WR-CALNAME:iCagenda
X-WR-CALDESC:Event Management Extension for Joomla!
X-WR-RELCALID:3E26604A-50F4-4449-8B3E-E4F4932D05B5
X-WR-TIMEZONE:Europe/Stockholm
BEGIN:VTIMEZONE
TZID:Europe/Stockholm
BEGIN:STANDARD
TZNAME:CET
DTSTART:20231029T030000
TZOFFSETFROM:+0200
TZOFFSETTO:+0100
RDATE:20241027T030000
RDATE:20251026T030000
END:STANDARD
BEGIN:DAYLIGHT
TZNAME:CEST
DTSTART:20240331T020000
TZOFFSETFROM:+0100
TZOFFSETTO:+0200
RDATE:20250330T020000
END:DAYLIGHT
END:VTIMEZONE
BEGIN:VEVENT
UID:07cd2764-d5ff-4b45-b959-f249d7ee5dca
DTSTAMP:20260422T114907Z
CATEGORIES:Guest teacher
CLASS:PUBLIC
DESCRIPTION;ALTREP="CID:<FFFF__=0ABBE548DFE235B58f9e8a93d@coffeebean.com>":
 We're delighted to welcome back Tim Feldmann to our yoga shala in August 2
 024. Tim visited us the first time in 2021 and he now returns for another 
 weekend workshop on 6-8 September 2024. Tim will teach two morning mysore 
 style classes and three afternoon workshops with specially chosen themes. 
 There will also be two opportunities for Q&amp\;A. The workshop starts on 
 the Friday evening with a talk about the purpose of our daily yoga practic
 e - what do the classic yogic texts say about yoga and how to apply it to 
 your own yoga practice for long term benefit? For a detailed programme and
  Tim's bio please scroll down. The workshop will be taught in English.\nDA
 TE AND TIME:\nFriday 6th 17-19:00 - Talk\,  'What is Practice' + Q&amp\;A?
  \nSaturday 7th and Sunday 8th 8-11:00  - Morning mysore style class (two 
 shifts depending on the size of the group). After the mysore class on Sund
 ay at 11am Tim gives an additional 30min Q&amp\;A.\nSaturday 7th 13:30-15:
 30  and Sunday 8th 13-15 -  Afternoon workshop\nPRICES:\nFull workshop: 28
 00 SEK (Fully booked with waiting list.)\nSingle class (morning mysore): 6
 00 SEK  or 1050 SEK for Saturday and Sunday \nBOOKING: per email info@asht
 angayogamalmo \n*Booking rules: no cancellation possible. Participants may
  give their spot to another person\, and in case of a waiting list the spo
 t will go the the first person on the list.\nDETAILED PROGRAMME:\nFri 6/9\
 , 17-19 (2 hours): Talk - 'What is Practice' + Q&amp\;A? \nIn this talk Ti
 m will address what it is we are supposed to do when we are doing yoga acc
 ording to Sri Patanjali. The ancient\, yogic goals of health &amp\; libera
 tion of our bodies\, minds and hearts sometimes get lost in our attempts o
 f mastering yoga postures. Did you ever wonder how bending your back and j
 umping back-forth is possibly going to elevate your mind\, release deep ps
 ychological patterns and lead you to a freer\, happier state of living? Co
 me learn what the classic yogic texts say about practice and how to apply 
 it to your own yoga practice for long term benefit. The class ends with a 
 Question &amp\; Answer session - so bring your questions!\nSat 7/9\, 8-11:
  Mysore style Class\nNamed after the city where Krishnamacharya and Pattab
 hi Jois developed their yoga method\, this is the classic way Ashtanga Yog
 a is taught. A melting pot of yoga practitioners of all levels from beginn
 er to experienced\, this class sets out to offer personalised guidance to 
 each practitioner at exactly where you need it most. Build a relationship 
 with yourself\, your practice and your teacher in this inspiring energy. 
 \nSat 7/9\, 13:30-15:30 (2 hours): 'Sthira Sukham &amp\; Backbending'\nDev
 elop your ‘sthirasukha’\, your discipline and delight\, for aptitude and h
 ealth in your yoga practice. The class starts with directing your mind tow
 ards the essential\; we’ll look at what it takes to bend backwards without
  fear and pain. The key to deep back bends are available to you through th
 e integration of sound anatomical principles\, healthy alignment and techn
 ique\, as well as accurate knowledge of your inner body. The movement mech
 anics of bending your spine are the key to an enhanced flow of energy and 
 in this class you will begin to explore your natural potential for deep ba
 ck bends with simplicity\, safety\, support and enthusiasm. The workshop a
 ims at developing tools for a personal and balanced practice. All levels w
 elcome.\n Sun 8/9\, 8-11: Mysore style Class\nNamed after the city where K
 rishnamacharya and Pattabhi Jois developed their yoga method\, this is the
  classic way Ashtanga Yoga is taught. A melting pot of yoga practitioners 
 of all levels from beginner to experienced\, this class sets out to offer 
 personalised guidance to each practitioner at exactly where you need it mo
 st. Build a relationship with yourself\, your practice and your teacher in
  this inspiring energy. After the mysore class on Sunday at 11am Tim gives
  an additional 30min Q&amp\;A.\nSun 8/9\, 13-15 (2 hours): 'Jumping\, Walk
 ing\, Rolling\, and Floating - Transitions in Practice'\nIn the Ashtanga V
 inyasa style practice\, we spend almost as much time transitioning between
  postures as we do staying in each individually. This workshop will explor
 e the many types of transitions we experience in practice\; starting with 
 floating in Surya Namaskara\, followed by the illusive (and challenging) s
 eated “jump through and jump back”\, and finally the more complex entrance
 s into arm balances and inversions. You will learn how and where to use st
 rength and stability while creating lightness and ease in body and mind. C
 ome with a sense of adventure! All levels welcome.\nABOUT TIM FELDMANN\nTi
 m is the co-founder of the world-wide recognized Miami Life Center and of 
 the newly opened Miami Yoga Garage - a new ambitious Shala and cultural ho
 use in Miami's fun Wynwood district. He has practiced yoga since 1994 and 
 Ashtanga Since 1999. Authorized to teach by Pattabhi Jois and Sharath Jois
  he explores core concepts and modern boundaries of Patanjali’s yoga teach
 ings alike. A practitioner of Ashtanga Yoga’s Advanced A Series Tim finds 
 Ashtanga’s traditional method an exceptional path towards healing\, wisdom
  and self-realisation. Drawing upon his past as an internationally success
 ful dancer and acclaimed choreographer\, anatomy\, alignment and technique
  is his second nature. Tim has been pursuing in-depth studies of Patanjali
 \, Sankhya and Vedanta over the past 7 years with Vidwan Nagaraja Rao\, Ja
 yashree &amp\; Narasimha and other exceptional scholars in South India. Ch
 erished worldwide for his fun\, disciplined and detailed pursuit of authen
 tic yoga and his compassionately effective touch\, Tim travels to yoga sha
 las around the globe with the inclusive message of how study\, steadiness 
 and devotion is the means to powerful transformation both inside and outsi
 de of us.\n 
DTSTART:20240906T150000Z
DTEND:20240908T130000Z
GEO:00;0
LOCATION:Ashtanga Yoga Malmö
ORGANIZER;CN=:info@ashtangayogamalmo.se
SEQUENCE:1
SUMMARY:ASHTANGA YOGA WEEKEND with guest teacher Tim Feldmann - FULL
TRANSP:OPAQUE
URL:https://www.ashtangayogamalmo.se/en/courses/courses-workshops-en/118-as
 htanga-weekend-with-tim-feldmann
END:VEVENT
END:VCALENDAR
